BEGIN:VCALENDAR
VERSION:2.0
PRODID:-//ChamberMaster//Event Calendar 2.0//EN
METHOD:PUBLISH
X-PUBLISHED-TTL:P3D
REFRESH-INTERVAL:P3D
CALSCALE:GREGORIAN
BEGIN:VEVENT
DTSTART:20180923T020000Z
DTEND:20180923T050000Z
X-MICROSOFT-CDO-ALLDAYEVENT:FALSE
SUMMARY:Mike Super-Magic and Illusion
DESCRIPTION:ar of America's Got Talent and winner of NBC's Phenomenon\, magician Mike Super stuns audiences with his spectacular illusions\, which defy gravity and control the elements. Watch an audience member be influenced and coerced as Mike takes control of their body using Voodoo magic\, and feel the air become chilled as Mike takes control of the environment.. This jaw-dropping show will take you on a journey of emotions from laughter\, intrigue\, danger\, and wonder that only Mike Super can deliver. ... America's Got Talent finalist! ... Winner of NBC's Phenomenon! ... Voted "America's Favorite Mystifier!"
X-ALT-DESC;FMTTYPE=text/html:ar of America&rsquo\;s Got Talent and winner of NBC&rsquo\;s Phenomenon\, magician Mike Super stuns audiences with his spectacular illusions\, which defy gravity and control the elements. Watch an audience member be influenced and coerced as Mike takes control of their body using Voodoo magic\, and feel the air become chilled as Mike takes control of the environment.. This jaw-dropping show will take you on a journey of emotions from laughter\, intrigue\, danger\, and wonder that only Mike Super can deliver. ... America&rsquo\;s Got Talent finalist! ... Winner of NBC&rsquo\;s Phenomenon! ... Voted &quot\;America&rsquo\;s Favorite Mystifier!&quot\;
LOCATION:Chandler Center for the Arts\, 250 N Arizona Avenue\, Chandler\, AZ 85225
UID:e.1561.33720
SEQUENCE:3
DTSTAMP:20260423T124019Z
URL:https://business.chandlerchamber.com/events/details/mike-super-magic-and-illusion-33720
END:VEVENT

END:VCALENDAR
