BEGIN:VCALENDAR
VERSION:2.0
PRODID:-//ChamberMaster//Event Calendar 2.0//EN
METHOD:PUBLISH
X-PUBLISHED-TTL:P3D
REFRESH-INTERVAL:P3D
CALSCALE:GREGORIAN
BEGIN:VEVENT
DTSTART:20191013T013000Z
DTEND:20191013T030000Z
X-MICROSOFT-CDO-ALLDAYEVENT:FALSE
SUMMARY:Miss Indian Arizona Scholarship Program
DESCRIPTION:Save the Date- Miss Indian Arizona Scholarship Program
X-ALT-DESC;FMTTYPE=text/html:Save the Date- Miss Indian Arizona Scholarship Program
LOCATION:Chandler Center for the Arts
UID:e.1561.36746
SEQUENCE:3
DTSTAMP:20260422T201905Z
URL:https://business.chandlerchamber.com/events/details/miss-indian-arizona-scholarship-program-36746
END:VEVENT

END:VCALENDAR
