BEGIN:VCALENDAR
VERSION:2.0
PRODID:-//ChamberMaster//Event Calendar 2.0//EN
METHOD:PUBLISH
X-PUBLISHED-TTL:P3D
REFRESH-INTERVAL:P3D
CALSCALE:GREGORIAN
BEGIN:VEVENT
DTSTART:20190412T190000Z
DTEND:20190414T160000Z
X-MICROSOFT-CDO-ALLDAYEVENT:FALSE
SUMMARY:Mission Trip to Rocky Point
DESCRIPTION:https://www.facebook.com/events/2167327743329154/ Copy and paste this link in your browser.
X-ALT-DESC;FMTTYPE=text/html:https://www.facebook.com/events/2167327743329154/ Copy and paste this link in your browser.
LOCATION:Mission Villa Granada-see FB page
UID:e.1561.36652
SEQUENCE:3
DTSTAMP:20260423T045346Z
URL:https://business.chandlerchamber.com/events/details/mission-trip-to-rocky-point-36652
END:VEVENT

END:VCALENDAR
