BEGIN:VCALENDAR
VERSION:2.0
PRODID:-//ChamberMaster//Event Calendar 2.0//EN
METHOD:PUBLISH
X-PUBLISHED-TTL:P3D
REFRESH-INTERVAL:P3D
CALSCALE:GREGORIAN
BEGIN:VEVENT
DTSTART:20180105T160000Z
DTEND:20180105T180000Z
X-MICROSOFT-CDO-ALLDAYEVENT:FALSE
SUMMARY:Mornin' Cup ofJoey
DESCRIPTION:C'mon by and start your day right with a cup of joe and a little Aussie networking at Rebeca Steele's office!
X-ALT-DESC;FMTTYPE=text/html:C&#39\;mon by and start your day right with a cup of joe and a little Aussie networking at Rebeca Steele&#39\;s office!
LOCATION:5070 S Gilbert Rd\, Chandler
UID:e.1561.20694
SEQUENCE:3
DTSTAMP:20260423T233126Z
URL:https://business.chandlerchamber.com/events/details/mornin-cup-ofjoey-20694
END:VEVENT

END:VCALENDAR
