BEGIN:VCALENDAR
VERSION:2.0
PRODID:-//ChamberMaster//Event Calendar 2.0//EN
METHOD:PUBLISH
X-PUBLISHED-TTL:P3D
REFRESH-INTERVAL:P3D
CALSCALE:GREGORIAN
BEGIN:VEVENT
DTSTART:20180513T150000Z
DTEND:20180513T170000Z
X-MICROSOFT-CDO-ALLDAYEVENT:FALSE
SUMMARY:Mother's Day Cup of Joey
DESCRIPTION:C'mon by and treat yourself (and your mom!) to a "cup of joey" at Liv Avenida in Chandler!
X-ALT-DESC;FMTTYPE=text/html:C&#39\;mon by and treat yourself (and your mom!) to a &quot\;cup of joey&quot\; at Liv Avenida in Chandler!
LOCATION:3250 S Arizona Ave\, Chandler\, Arizona 85248
UID:e.1561.33653
SEQUENCE:3
DTSTAMP:20260423T193202Z
URL:https://business.chandlerchamber.com/events/details/mother-s-day-cup-of-joey-33653
END:VEVENT

END:VCALENDAR
