BEGIN:VCALENDAR
VERSION:2.0
PRODID:-//ChamberMaster//Event Calendar 2.0//EN
METHOD:PUBLISH
X-PUBLISHED-TTL:P3D
REFRESH-INTERVAL:P3D
CALSCALE:GREGORIAN
BEGIN:VEVENT
DTSTART:20210418T003000Z
DTEND:20210418T033000Z
X-MICROSOFT-CDO-ALLDAYEVENT:FALSE
SUMMARY:Mother & Son Build A Day
DESCRIPTION:Join us for Building Model Cars\, Planes\, or Ships We are wishing: Build a Day\, BUILDS a Bond! Light Refreshments\, & Scavenger Hunt with Prize.
X-ALT-DESC;FMTTYPE=text/html:Join us for Building Model Cars\, Planes\, or Ships We are wishing: Build a Day\, BUILDS a Bond! Light Refreshments\, &amp\; Scavenger Hunt with Prize.
LOCATION:Quiet Waters Maternity Spa & Wellness Center 1405 N Dobson Rd Suite 3 Chandler Az\, 85224
UID:e.1561.39711
SEQUENCE:3
DTSTAMP:20260424T124055Z
URL:https://business.chandlerchamber.com/events/details/mother-son-build-a-day-39711
END:VEVENT

END:VCALENDAR
