BEGIN:VCALENDAR
VERSION:2.0
PRODID:-//ChamberMaster//Event Calendar 2.0//EN
METHOD:PUBLISH
X-PUBLISHED-TTL:P3D
REFRESH-INTERVAL:P3D
CALSCALE:GREGORIAN
BEGIN:VEVENT
DTSTART:20180426T150000Z
DTEND:20180428T020000Z
X-MICROSOFT-CDO-ALLDAYEVENT:FALSE
SUMMARY:Mr. Cooper Open House-Customer Service Agents Wanted
DESCRIPTION:Customer Service Agents Wanted!\n\nWe're looking for highly-motivated\, smart\, sassy\, interesting\, hardworking and all-around awesome folks to join our team. Interested? Great\, visit our open house\, learn about Mr. Cooper\, meet our leaders and interview on-the-spot.
X-ALT-DESC;FMTTYPE=text/html:Customer Service Agents Wanted!<br />\nWe&#39\;re looking for highly-motivated\, smart\, sassy\, interesting\, hardworking and all-around awesome folks to join our team. Interested? Great\, visit our open house\, learn about Mr. Cooper\, meet our leaders and interview on-the-spot.
LOCATION:Mr. Cooper 2501 S Price Rd\, Suite 100 Chandler\, AZ 85286
UID:e.1561.33640
SEQUENCE:3
DTSTAMP:20260423T193256Z
URL:https://business.chandlerchamber.com/events/details/mr-cooper-open-house-customer-service-agents-wanted-33640
END:VEVENT

END:VCALENDAR
