BEGIN:VCALENDAR
VERSION:2.0
PRODID:-//ChamberMaster//Event Calendar 2.0//EN
METHOD:PUBLISH
X-PUBLISHED-TTL:P3D
REFRESH-INTERVAL:P3D
CALSCALE:GREGORIAN
BEGIN:VEVENT
DTSTART:20180211T020000Z
DTEND:20180211T040000Z
X-MICROSOFT-CDO-ALLDAYEVENT:FALSE
SUMMARY:Mulan
DESCRIPTION:One girl. One decision. One choice that changed the world. Mulan is a timeless tale of courage\, love and sacrifice. Brought to you in a never seen before way\, this show will enchant\, excite and enthrall audiences of all ages. Filled with stunning visuals\, exciting martial arts action and mesmerizing dance\, Mulan is a show of a lifetime that you cannot miss. Above all\, Mulan contains a heartfelt story that continues to inspire generations after generations with it's wonderful message of bravery\, loyalty and the courage to stand up for what is right. Go on an epic journey through time and history and enjoy diversity beauty and culture in a way you've never seen before.
X-ALT-DESC;FMTTYPE=text/html:One girl. One decision. One choice that changed the world. Mulan is a timeless tale of courage\, love and sacrifice. Brought to you in a never seen before way\, this show will enchant\, excite and enthrall audiences of all ages. Filled with stunning visuals\, exciting martial arts action and mesmerizing dance\, Mulan is a show of a lifetime that you cannot miss. Above all\, Mulan contains a heartfelt story that continues to inspire generations after generations with it&rsquo\;s wonderful message of bravery\, loyalty and the courage to stand up for what is right. Go on an epic journey through time and history and enjoy diversity beauty and culture in a way you&rsquo\;ve never seen before.
LOCATION:Orpheum Theatre
UID:e.1561.19639
SEQUENCE:3
DTSTAMP:20260423T215441Z
URL:https://business.chandlerchamber.com/events/details/mulan-19639
END:VEVENT

END:VCALENDAR
