BEGIN:VCALENDAR
VERSION:2.0
PRODID:-//ChamberMaster//Event Calendar 2.0//EN
METHOD:PUBLISH
X-PUBLISHED-TTL:P3D
REFRESH-INTERVAL:P3D
CALSCALE:GREGORIAN
BEGIN:VEVENT
DTSTART:20170617T233000Z
DTEND:20170618T013000Z
X-MICROSOFT-CDO-ALLDAYEVENT:FALSE
SUMMARY:Murder Mystery Dinner in Chandler
DESCRIPTION:The Experts in Mystery Entertainment are now performing live public and private interactive murder mystery dinner shows in Chandler and surrounding areas throughout Arizona. Join us for a night of intrigue\, deception\, and delicious food in this comedic thriller!
X-ALT-DESC;FMTTYPE=text/html:The Experts in Mystery Entertainment are now performing live public and private interactive murder mystery dinner shows in Chandler and surrounding areas throughout Arizona. Join us for a night of intrigue\, deception\, and delicious food in this comedic thriller!
LOCATION:The Old Spaghetti Factory 525 W Arlington PL\, Phoenix\, AZ 60614
UID:e.1561.18882
SEQUENCE:3
DTSTAMP:20260424T105906Z
URL:https://business.chandlerchamber.com/events/details/murder-mystery-dinner-in-chandler-18882
END:VEVENT

END:VCALENDAR
