BEGIN:VCALENDAR
VERSION:2.0
PRODID:-//ChamberMaster//Event Calendar 2.0//EN
METHOD:PUBLISH
X-PUBLISHED-TTL:P3D
REFRESH-INTERVAL:P3D
CALSCALE:GREGORIAN
BEGIN:VEVENT
DTSTART:20200110T010000Z
DTEND:20200110T030000Z
X-MICROSOFT-CDO-ALLDAYEVENT:FALSE
SUMMARY:Music in the Shadow of the Holocaust
DESCRIPTION:The East Valley JCC's Center for Holocaust Education and Human Dignity and the City of Chandler will present "Music in the Shadow of the Holocaust" at 6 p.m.\, Thursday\, Jan. 9\, at Chandler Center for the Arts\, 250 N. Arizona Ave.\, Chandler. The program brings together two powerful Holocaust commemoration projects that explore how\, as a community\, we can approach topics such as genocide\, identity and tolerance through art and music. The program features acclaimed pianist Carolyn Enger and award-winning composer Daniel Asia and their respective works\, "Mischlinge Expos " and "To Open in Praise."
X-ALT-DESC;FMTTYPE=text/html:The East Valley JCC&rsquo\;s Center for Holocaust Education and Human Dignity and the City of Chandler will present &ldquo\;Music in the Shadow of the Holocaust&rdquo\; at 6 p.m.\, Thursday\, Jan. 9\, at Chandler Center for the Arts\, 250 N. Arizona Ave.\, Chandler. The program brings together two powerful Holocaust commemoration projects that explore how\, as a community\, we can approach topics such as genocide\, identity and tolerance through art and music. The program features acclaimed pianist Carolyn Enger and award-winning composer Daniel Asia and their respective works\, &ldquo\;Mischlinge Expos&eacute\;&rdquo\; and &ldquo\;To Open in Praise.&rdquo\;
LOCATION:Chandler Center for the Arts\, 250 N. Arizona Ave.\, Chandler.
UID:e.1561.38783
SEQUENCE:3
DTSTAMP:20260420T152352Z
URL:https://business.chandlerchamber.com/events/details/music-in-the-shadow-of-the-holocaust-38783
END:VEVENT

END:VCALENDAR
