BEGIN:VCALENDAR
VERSION:2.0
PRODID:-//ChamberMaster//Event Calendar 2.0//EN
METHOD:PUBLISH
X-PUBLISHED-TTL:P3D
REFRESH-INTERVAL:P3D
CALSCALE:GREGORIAN
BEGIN:VEVENT
DTSTART:20180428T170000Z
DTEND:20180428T190000Z
X-MICROSOFT-CDO-ALLDAYEVENT:FALSE
SUMMARY:Mysteries of the Superstition Mountains
DESCRIPTION:On April 28\, 10:30 a.m.\, the Chandler Downtown Library\, located at 22 S. Delaware Street\, hosts Mysteries of the Superstition Mountains. For over a century people have been intrigued by stories of the Superstition Mountains. The lost Dutchman Mine of Jacob Waltz is\, without a doubt\, the most talked about and controversial aspect of these "Mountains of Foam\," but there is so much more to the history and the legends surrounding this area. Explore the mythos and lore that has grown over the years along with up-to-date aspects and theories concerning the area that many Native Americans believe to be a sacred. Presented by Charlie LeSueur\, western film historian and co-producer of the online show\, "Mysteries of the Superstition Mountains." For more information visit\, www.chandlermuseum.org or call 480-782-2751.
X-ALT-DESC;FMTTYPE=text/html:On April 28\, 10:30 a.m.\, the Chandler Downtown Library\, located at 22 S. Delaware Street\, hosts Mysteries of the Superstition Mountains. For over a century people have been intrigued by stories of the Superstition Mountains. The lost Dutchman Mine of Jacob Waltz is\, without a doubt\, the most talked about and controversial aspect of these &ldquo\;Mountains of Foam\,&rdquo\; but there is so much more to the history and the legends surrounding this area. Explore the mythos and lore that has grown over the years along with up-to-date aspects and theories concerning the area that many Native Americans believe to be a sacred. Presented by Charlie LeSueur\, western film historian and co-producer of the online show\, &ldquo\;Mysteries of the Superstition Mountains.&rdquo\; For more information visit\, www.chandlermuseum.org or call 480-782-2751.
LOCATION:Chandler Downtown Library 22 S. Delaware St. Chandler\, AZ 85225
UID:e.1561.33644
SEQUENCE:3
DTSTAMP:20260423T193751Z
URL:https://business.chandlerchamber.com/events/details/mysteries-of-the-superstition-mountains-33644
END:VEVENT

END:VCALENDAR
