BEGIN:VCALENDAR
VERSION:2.0
PRODID:-//ChamberMaster//Event Calendar 2.0//EN
METHOD:PUBLISH
X-PUBLISHED-TTL:P3D
REFRESH-INTERVAL:P3D
CALSCALE:GREGORIAN
BEGIN:VEVENT
DTSTART;VALUE=DATE:20180106
DTEND;VALUE=DATE:20180107
TRANSP:TRANSPARENT
X-MICROSOFT-CDO-ALLDAYEVENT:TRUE
SUMMARY:National Technology Day
DESCRIPTION:Celebrate National Technology Day with HostGator. Technology Day honors all of the achievements technology has given us throughout time. Now it's time to make your own contribution to the world of technology with your own website!
X-ALT-DESC;FMTTYPE=text/html:Celebrate National Technology Day with HostGator. Technology Day honors all of the achievements technology has given us throughout time. Now it&rsquo\;s time to make your own contribution to the world of technology with your own website!
LOCATION:https://www.hostgator.com/
UID:e.1561.20698
SEQUENCE:3
DTSTAMP:20260423T233001Z
URL:https://business.chandlerchamber.com/events/details/national-technology-day-01-06-2018-20698
END:VEVENT

END:VCALENDAR
