BEGIN:VCALENDAR
VERSION:2.0
PRODID:-//ChamberMaster//Event Calendar 2.0//EN
METHOD:PUBLISH
X-PUBLISHED-TTL:P3D
REFRESH-INTERVAL:P3D
CALSCALE:GREGORIAN
BEGIN:VEVENT
DTSTART:20171214T160000Z
DTEND:20171214T200000Z
X-MICROSOFT-CDO-ALLDAYEVENT:FALSE
SUMMARY:New Build Home Tour
DESCRIPTION:Pease join us for our December New Build Home Tour! On our tour\, we will visit 4 new build home sites throughout the Southeast Valley. Breakfast and lunch provided! Product Knowledge is King! Be the informed Realtor.
X-ALT-DESC;FMTTYPE=text/html:Pease join us for our December New Build Home Tour! On our tour\, we will visit 4 new build home sites throughout the Southeast Valley. Breakfast and lunch provided! Product Knowledge is King! Be the informed Realtor.
LOCATION:Finance of America Mortgage 275 E Rivulon Blvd Suite 200 Gilbert AZ 85297
UID:e.1561.20276
SEQUENCE:3
DTSTAMP:20260424T022136Z
URL:https://business.chandlerchamber.com/events/details/new-build-home-tour-20276
END:VEVENT

END:VCALENDAR
