BEGIN:VCALENDAR
VERSION:2.0
PRODID:-//ChamberMaster//Event Calendar 2.0//EN
METHOD:PUBLISH
X-PUBLISHED-TTL:P3D
REFRESH-INTERVAL:P3D
CALSCALE:GREGORIAN
BEGIN:VEVENT
DTSTART:20180917T183000Z
DTEND:20180917T203000Z
X-MICROSOFT-CDO-ALLDAYEVENT:FALSE
SUMMARY:News Release: Join Mega Events Benefit Auction Specialists for a "Mock Auction" Lunch Included!
DESCRIPTION:FUNDRAISING\, CHARITY GALAS & BENEFITS can be a difficult task to plan. We are not Event Planners but Benefit Auction Specialists\, working ONLY to help those who need of fundraising assistance\, ideas and strategies! Join us while we show you how we create the "WOW FACTOR" to your next Fundraiser\, Benefit & Annual Charity Gala with extensive experience\, education and excitement. When: Monday\, September 17\, 2018 Place: The Falls Event Center 4635 E Baseline Rd\, Gilbert\, AZ 85234 Time: 11:30am   1:30pm Your $10 Donation includes lunch\, entertainment and a raffle ticket. Funds collected will be distributed to ONE lucky winner at the end of the lunch to be DONATED to your FAVORITE charity organization! Mega Events Supports local communities in need. PLEASE RSVP TO MIMI CITARELLA BY SEPTEMBER 14\, 2018 708.548.7335 "One small change can have an enormous impact"
X-ALT-DESC;FMTTYPE=text/html:FUNDRAISING\, CHARITY GALAS &amp\; BENEFITS can be a difficult task to plan. We are not Event Planners but Benefit Auction Specialists\, working ONLY to help those who need of fundraising assistance\, ideas and strategies! Join us while we show you how we create the &ldquo\;WOW FACTOR&rdquo\; to your next Fundraiser\, Benefit &amp\; Annual Charity Gala with extensive experience\, education and excitement. When: Monday\, September 17\, 2018 Place: The Falls Event Center 4635 E Baseline Rd\, Gilbert\, AZ 85234 Time: 11:30am &ndash\; 1:30pm Your $10 Donation includes lunch\, entertainment and a raffle ticket. Funds collected will be distributed to ONE lucky winner at the end of the lunch to be DONATED to your FAVORITE charity organization! Mega Events Supports local communities in need. PLEASE RSVP TO MIMI CITARELLA BY SEPTEMBER 14\, 2018 708.548.7335 &ldquo\;One small change can have an enormous impact&rdquo\;
LOCATION:The Falls Event Center 4635 E Baseline Rd\, Gilbert\, AZ 85234
UID:e.1561.34161
SEQUENCE:3
DTSTAMP:20260423T124616Z
URL:https://business.chandlerchamber.com/events/details/news-release-join-mega-events-benefit-auction-specialists-for-a-mock-auction-lunch-included-34161
END:VEVENT

END:VCALENDAR
