BEGIN:VCALENDAR
VERSION:2.0
PRODID:-//ChamberMaster//Event Calendar 2.0//EN
METHOD:PUBLISH
X-PUBLISHED-TTL:P3D
REFRESH-INTERVAL:P3D
CALSCALE:GREGORIAN
BEGIN:VEVENT
DTSTART:20220419T233000Z
DTEND:20220420T003000Z
X-MICROSOFT-CDO-ALLDAYEVENT:FALSE
SUMMARY:NFTs and Social Media\, What’s the Hype About?
DESCRIPTION:https://www.eventbrite.com/e/nfts-and-social-media-whats-the-hype-about-tickets-320968534527\n\nLet's jump into the trend to understand NFTs\, who is creating them\, how you can begin investing\, and how social media plays a role.\n\n\n\n\n\n\nAbout this event\n\n\n\nNFTs and Social Media\, what's the hype about? From Twitter to Instagram\, NFTs are here to take us to the metaverse. Still\, more importantly\, it's becoming a new way to create revenue for influencers\, brands\, and everyone on social media.\n\nSo let's jump into the trend to understand NFTs\, who is creating them\, how you can begin investing\, and how social media plays a crucial role in forging the metaverse.\n\nMeet the Speaker:\n\nOur speaker\, Rick Parada\, is the Chief of Digital Marketing for EKATAR\, a global marketing agency in Phoenix. Rick studied a Global MBA at Thunderbird School of Global Business in 2012 (ASU). With more than +16 years of experience in Marketing\, he has worked on digital projects for global brands like Paramount Pictures\, Trek Bikes\, LiftMaster / Chamberlain\, GongCha\, and other TNCs.\n\nRick has given more than 150 lectures on trends in Digital Marketing in America. Also\, he is a professor for private universities in Latinamerica.\n\nRick is currently launching NFTs projects in the USA. You can learn more about his agency at: www.ekatar.com or connect through LinkedIn: @RickParada.
X-ALT-DESC;FMTTYPE=text/html:<div class="g-group l-lg-mar-bot-6 l-md-mar-bot-4  " style="margin: 0px 0px 30px\; padding: 0px\; font-size: 0px\; letter-spacing: 0px\; color: rgb(57\, 54\, 79)\; font-family: &quot\;Neue Plak&quot\;\, -apple-system\, BlinkMacSystemFont\, Roboto\, &quot\;Helvetica Neue&quot\;\, Helvetica\, Tahoma\, Arial\, sans-serif\;">\n<div class="g-cell g-cell-10-12 g-cell-md-1-1" style="margin: 0px\; padding: 0px 15px\; width: 560px\; box-sizing: border-box\; display: inline-block\; overflow: hidden\; vertical-align: top\; letter-spacing: 0.5px\; font-size: 0.933333rem\; line-height: 1.25rem\;">\n<div class="has-user-generated-content" style="margin: 0px\; padding: 0px\;">\n<div class="text-body-medium" data-automation="listing-event-description" style="margin: 0px\; padding: 0px\; font-size: 0.933333rem\; line-height: 1.25rem\;"><span style="font-weight: 700\; padding-top: 0px\;"><a href="https://www.eventbrite.com/e/nfts-and-social-media-whats-the-hype-about-tickets-320968534527">https://www.eventbrite.com/e/nfts-and-social-media-whats-the-hype-about-tickets-320968534527</a><br />\nLet&rsquo\;s jump into the trend to understand NFTs\, who is creating them\, how you can begin investing\, and how social media plays a role.</span></div>\n</div>\n</div>\n</div>\n\n<div class="g-group l-mar-bot-6 l-sm-mar-bot-4" style="margin: 0px 0px 30px\; padding: 0px\; font-size: 0px\; letter-spacing: 0px\; color: rgb(57\, 54\, 79)\; font-family: &quot\;Neue Plak&quot\;\, -apple-system\, BlinkMacSystemFont\, Roboto\, &quot\;Helvetica Neue&quot\;\, Helvetica\, Tahoma\, Arial\, sans-serif\;">\n<div class="structured-content g-cell g-cell-10-12 g-cell-md-1-1" style="margin: 0px\; padding: 0px 15px\; width: 560px\; box-sizing: border-box\; display: inline-block\; overflow: hidden\; vertical-align: top\; letter-spacing: 0.5px\; font-size: 0.933333rem\; line-height: 1.25rem\;">\n<h2 class="text-body-large hide-small" style="margin: 0px -0.25px 0px 0px\; padding: 0px\; font-weight: 600\; font-size: 1.2rem\; line-height: 1.5rem\; letter-spacing: 0.25px\;">About this event</h2>\n\n<div class="has-user-generated-content" data-automation="about-this-event-sc" style="margin: 0px\; padding: 0px\;">\n<div class="structured-content-rich-text structured-content__module l-align-left l-mar-vert-6 l-sm-mar-vert-4 text-body-medium" style="margin: 30px 0px\; padding: 0px\; font-size: 0.933333rem\; line-height: 1.25rem\; text-rendering: optimizelegibility\;">\n<p style="margin: 0px\; padding: 0px\; color: rgb(111\, 114\, 135)\; font-size: 16px\; line-height: 1.5rem\;">NFTs and Social Media\, what&rsquo\;s the hype about? From Twitter to Instagram\, NFTs are here to take us to the metaverse. Still\, more importantly\, it&rsquo\;s becoming a new way to create revenue for influencers\, brands\, and everyone on social media.</p>\n\n<p style="margin: 0px\; padding: 10px 0px 0px\; color: rgb(111\, 114\, 135)\; font-size: 16px\; line-height: 1.5rem\;">So let&rsquo\;s jump into the trend to understand NFTs\, who is creating them\, how you can begin investing\, and how social media plays a crucial role in forging the metaverse.</p>\n\n<p style="margin: 0px\; padding: 10px 0px 0px\; color: rgb(111\, 114\, 135)\; font-size: 16px\; line-height: 1.5rem\;"><span style="font-weight: 700\; padding-top: 0px\;">Meet the Speaker:</span></p>\n\n<p style="margin: 0px\; padding: 10px 0px 0px\; color: rgb(111\, 114\, 135)\; font-size: 16px\; line-height: 1.5rem\;">Our speaker\, Rick Parada\, is the Chief of Digital Marketing for EKATAR\, a global marketing agency in Phoenix. Rick studied a Global MBA at Thunderbird School of Global Business in 2012 (ASU). With more than +16 years of experience in Marketing\, he has worked on digital projects for global brands like Paramount Pictures\, Trek Bikes\, LiftMaster / Chamberlain\, GongCha\, and other TNCs.</p>\n\n<p style="margin: 0px\; padding: 10px 0px 0px\; color: rgb(111\, 114\, 135)\; font-size: 16px\; line-height: 1.5rem\;">Rick has given more than 150 lectures on trends in Digital Marketing in America. Also\, he is a professor for private universities in Latinamerica.</p>\n\n<p style="margin: 0px\; padding: 10px 0px 0px\; color: rgb(111\, 114\, 135)\; font-size: 16px\; line-height: 1.5rem\;">Rick is currently launching NFTs projects in the USA. You can learn more about his agency at: www.ekatar.com or connect through LinkedIn: @RickParada.</p>\n</div>\n</div>\n</div>\n</div>\n
LOCATION:Chandler Innovations (ACIC) 249 East Chicago Street Chandler\, AZ 85225
UID:e.1561.40675
SEQUENCE:3
DTSTAMP:20260423T222306Z
URL:https://business.chandlerchamber.com/events/details/nfts-and-social-media-what-s-the-hype-about-40675
END:VEVENT

END:VCALENDAR
