BEGIN:VCALENDAR
VERSION:2.0
PRODID:-//ChamberMaster//Event Calendar 2.0//EN
METHOD:PUBLISH
X-PUBLISHED-TTL:P3D
REFRESH-INTERVAL:P3D
CALSCALE:GREGORIAN
BEGIN:VEVENT
DTSTART:20191005T020000Z
DTEND:20191005T040000Z
X-MICROSOFT-CDO-ALLDAYEVENT:FALSE
SUMMARY:Nuestras Voces Youth Mariachi Showcase
DESCRIPTION:Nuestras Voces Youth Mariachi Showcase- Youth Mariachi showcase
X-ALT-DESC;FMTTYPE=text/html:Nuestras Voces Youth Mariachi Showcase- Youth Mariachi showcase
LOCATION:Chandler Center for the Arts
UID:e.1561.36815
SEQUENCE:3
DTSTAMP:20260422T204056Z
URL:https://business.chandlerchamber.com/events/details/nuestras-voces-youth-mariachi-showcase-36815
END:VEVENT

END:VCALENDAR
