BEGIN:VCALENDAR
VERSION:2.0
PRODID:-//ChamberMaster//Event Calendar 2.0//EN
METHOD:PUBLISH
X-PUBLISHED-TTL:P3D
REFRESH-INTERVAL:P3D
CALSCALE:GREGORIAN
BEGIN:VEVENT
DTSTART:20190409T170000Z
DTEND:20190708T000000Z
X-MICROSOFT-CDO-ALLDAYEVENT:FALSE
SUMMARY:Oblique Views: Southwest Aerial Landscapes by Charles and Anne Lindbergh and Adriel Heisey.
DESCRIPTION:The exhibit pairs then and now photos of the Southwest to show changes in the land over time. In 2008 Adriel Heisey rephotographed the same vantage points from his plane that Charles Lindbergh and his wife Anne captured in 1929. April 9   July 7\, 2019
X-ALT-DESC;FMTTYPE=text/html:The exhibit pairs then and now photos of the Southwest to show changes in the land over time. In 2008 Adriel Heisey rephotographed the same vantage points from his plane that Charles Lindbergh and his wife Anne captured in 1929. April 9 &ndash\; July 7\, 2019
LOCATION:Chandler Museum 300 S. Chandler Village Dr. Chandler\, AZ 85226
UID:e.1561.36677
SEQUENCE:3
DTSTAMP:20260422T231141Z
URL:https://business.chandlerchamber.com/events/details/oblique-views-southwest-aerial-landscapes-by-charles-and-anne-lindbergh-and-adriel-heisey-36677
END:VEVENT

END:VCALENDAR
