BEGIN:VCALENDAR
VERSION:2.0
PRODID:-//ChamberMaster//Event Calendar 2.0//EN
METHOD:PUBLISH
X-PUBLISHED-TTL:P3D
REFRESH-INTERVAL:P3D
CALSCALE:GREGORIAN
BEGIN:VEVENT
DTSTART:20150922T153000Z
DTEND:20150922T170000Z
X-MICROSOFT-CDO-ALLDAYEVENT:FALSE
SUMMARY:Office 2016 Small Business & Administrative Professionals Breakfast
DESCRIPTION:Small business owners and administrative professionals\, join us for a breakfast to learn how Office can help you do your best work ? anywhere\, anytime and with anyone. This 90-minute session will introduce you to new characteristics of Office.
X-ALT-DESC;FMTTYPE=text/html:Small business owners and administrative professionals\, join us for a breakfast to learn how Office can help you do your best work ? anywhere\, anytime and with anyone. This 90-minute session will introduce you to new characteristics of Office.
LOCATION:Microsoft Chandler Fashion Center
UID:e.1561.13187
SEQUENCE:3
DTSTAMP:20260425T170035Z
URL:https://business.chandlerchamber.com/events/details/office-2016-small-business-administrative-professionals-breakfast-09-22-2015-13187
END:VEVENT

END:VCALENDAR
