BEGIN:VCALENDAR
VERSION:2.0
PRODID:-//ChamberMaster//Event Calendar 2.0//EN
METHOD:PUBLISH
X-PUBLISHED-TTL:P3D
REFRESH-INTERVAL:P3D
CALSCALE:GREGORIAN
BEGIN:VEVENT
DTSTART:20170821T020000Z
DTEND:20170821T040000Z
X-MICROSOFT-CDO-ALLDAYEVENT:FALSE
SUMMARY:On The House Free Summer Concert Series- Niki J. Crawford
DESCRIPTION:After performing more than 200 shows worldwide as the lead vocalist for west coast funk and soul outfit "Orgone"\, Niki J Crawford's new band bring the heat with a high energy funk and soul party that is guaranteed to leave you with a positive and memorable impression. Niki and the band have shared the stage and have played with Carlos Santana\, Snoop Dogg\, Al Green\, Sharon Jones & the Dap Kings\, Aaron Neville\, Macy Grey\, Booker T Jones\, The Roots\, Keb Mo\, Galactic and Orgone just to name a few of the legendary performers who have sought out her talent. She has performed on various late-night TV shows such as Jay Leno\, David Letterman\, Conan O'Brien\, and Saturday Night Live and lit up festival stages across the world like Bonnaroo\, Wakarusa\, Montreal Jazz\, Summer Camp\, Bear Creek\, All Good\, High Sierra and Jam Cruise. - See more at: https://chandlercenter.org/concerts/181-niki-j-crawford#sthash.2r2EOV1j.dpuf
X-ALT-DESC;FMTTYPE=text/html:After performing more than 200 shows worldwide as the lead vocalist for west coast funk and soul outfit &ldquo\;Orgone&rdquo\;\, Niki J Crawford&rsquo\;s new band bring the heat with a high energy funk and soul party that is guaranteed to leave you with a positive and memorable impression. Niki and the band have shared the stage and have played with Carlos Santana\, Snoop Dogg\, Al Green\, Sharon Jones &amp\; the Dap Kings\, Aaron Neville\, Macy Grey\, Booker T Jones\, The Roots\, Keb Mo\, Galactic and Orgone just to name a few of the legendary performers who have sought out her talent. She has performed on various late-night TV shows such as Jay Leno\, David Letterman\, Conan O&rsquo\;Brien\, and Saturday Night Live and lit up festival stages across the world like Bonnaroo\, Wakarusa\, Montreal Jazz\, Summer Camp\, Bear Creek\, All Good\, High Sierra and Jam Cruise. - See more at: https://chandlercenter.org/concerts/181-niki-j-crawford#sthash.2r2EOV1j.dpuf
LOCATION:250 N Arizona Ave\, Chandler\, AZ 85225
UID:e.1561.19082
SEQUENCE:3
DTSTAMP:20260424T064145Z
URL:https://business.chandlerchamber.com/events/details/on-the-house-free-summer-concert-series-niki-j-crawford-19082
END:VEVENT

END:VCALENDAR
