BEGIN:VCALENDAR
VERSION:2.0
PRODID:-//ChamberMaster//Event Calendar 2.0//EN
METHOD:PUBLISH
X-PUBLISHED-TTL:P3D
REFRESH-INTERVAL:P3D
CALSCALE:GREGORIAN
BEGIN:VEVENT
DTSTART:20170805T023000Z
DTEND:20170805T050000Z
X-MICROSOFT-CDO-ALLDAYEVENT:FALSE
SUMMARY:On The House Free Summer Concert Series- Santa Pachita with Funky Bonz
DESCRIPTION:Santa Pachita is a Tucson band that has been playing together since 2012.Guitarist\, Miguel Reyes\, and bass player\, Victor Cruz\, started the bandafter working together on other musical projects. They brought in talented musicians that have a variety of different musical backgrounds. Santa Pachita is a 9-piece band that blends a variety of musical styles to create an entertaining night of dancing for everyone. The congas\, flute\, and trumpet add depth to the energetic music that is influenced by ska\, cumbia\,rumba-salsa\, and bands like Manu Chao. Funky Bonz have been around since 1993 touring the Southwest and playing with bands like George Clinton Parliament Funkadelic\, Bootsy Collins\, AWOLNATION\, Fishbone\, Cherry Poppin' Daddies\, and too many more to mention. In their hometown of Tucson they have been awarded 6 TAMMIES (Tucson AreaMusic Awards). Funky Bonz current line-up includes Brent Kort (vox)\, DougFloyd (guitar)\, Mark Lee (bass)\, Mike Hoeffner (drums) and Ryan Rosco and Tom Kennedy on horns. - See more at: https://chandlercenter.org/concerts/178-santa-pachita-with-funky-bonz#sthash.wRVllZwn.dpuf
X-ALT-DESC;FMTTYPE=text/html:Santa Pachita is a Tucson band that has been playing together since 2012.Guitarist\, Miguel Reyes\, and bass player\, Victor Cruz\, started the bandafter working together on other musical projects. They brought in talented musicians that have a variety of different musical backgrounds. Santa Pachita is a 9-piece band that blends a variety of musical styles to create an entertaining night of dancing for everyone. The congas\, flute\, and trumpet add depth to the energetic music that is influenced by ska\, cumbia\,rumba-salsa\, and bands like Manu Chao. Funky Bonz have been around since 1993 touring the Southwest and playing with bands like George Clinton Parliament Funkadelic\, Bootsy Collins\, AWOLNATION\, Fishbone\, Cherry Poppin&rsquo\; Daddies\, and too many more to mention. In their hometown of Tucson they have been awarded 6 TAMMIES (Tucson AreaMusic Awards). Funky Bonz current line-up includes Brent Kort (vox)\, DougFloyd (guitar)\, Mark Lee (bass)\, Mike Hoeffner (drums) and Ryan Rosco and Tom Kennedy on horns. - See more at: https://chandlercenter.org/concerts/178-santa-pachita-with-funky-bonz#sthash.wRVllZwn.dpuf
LOCATION:Chandler Center for the Arts 250 N Arizona Ave\, Chandler\, AZ 85225
UID:e.1561.19080
SEQUENCE:3
DTSTAMP:20260424T064247Z
URL:https://business.chandlerchamber.com/events/details/on-the-house-free-summer-concert-series-santa-pachita-with-funky-bonz-19080
END:VEVENT

END:VCALENDAR
