BEGIN:VCALENDAR
VERSION:2.0
PRODID:-//ChamberMaster//Event Calendar 2.0//EN
METHOD:PUBLISH
X-PUBLISHED-TTL:P3D
REFRESH-INTERVAL:P3D
CALSCALE:GREGORIAN
BEGIN:VEVENT
DTSTART:20220730T023000Z
DTEND:20220730T043000Z
X-MICROSOFT-CDO-ALLDAYEVENT:FALSE
SUMMARY:One Night of Queen performed by Gary Mullen and The Works
DESCRIPTION:Gary Mullen & The Works perform One Night of Queen\, a spectacular live concert recreating the look\, sound\, pomp\, and showmanship of one of the greatest rock bands of all time. In 2000\, Gary Mullen won the "Stars In Their Eyes" Live Grand Final as Freddie Mercury with the most votes ever cast in the show's history. Since 2002\, Gary Mullen and The Works have played to sell-out crowds in the UK\, USA\, Europe\, and New Zealand. This show will ROCK you!
X-ALT-DESC;FMTTYPE=text/html:Gary Mullen &amp\; The Works perform One Night of Queen\, a spectacular live concert recreating the look\, sound\, pomp\, and showmanship of one of the greatest rock bands of all time. In 2000\, Gary Mullen won the &ldquo\;Stars In Their Eyes&rdquo\; Live Grand Final as Freddie Mercury with the most votes ever cast in the show&rsquo\;s history. Since 2002\, Gary Mullen and The Works have played to sell-out crowds in the UK\, USA\, Europe\, and New Zealand. This show will ROCK you!
LOCATION:Chandler Center for the Arts
UID:e.1561.40688
SEQUENCE:3
DTSTAMP:20260423T180324Z
URL:https://business.chandlerchamber.com/events/details/one-night-of-queen-performed-by-gary-mullen-and-the-works-40688
END:VEVENT

END:VCALENDAR
