BEGIN:VCALENDAR
VERSION:2.0
PRODID:-//ChamberMaster//Event Calendar 2.0//EN
METHOD:PUBLISH
X-PUBLISHED-TTL:P3D
REFRESH-INTERVAL:P3D
CALSCALE:GREGORIAN
BEGIN:VEVENT
DTSTART:20261107T023000Z
DTEND:20261107T050000Z
X-MICROSOFT-CDO-ALLDAYEVENT:FALSE
SUMMARY:One Vision of Queen ft. Marc Martel
DESCRIPTION:Widely recognized for his extraordinary vocal resemblance to Freddie Mercury\, Marc Martel has captivated audiences across the globe. The Canadian native even provided parts of Mercury's singing voice in the 2018 biopic film Bohemian Rhapsody. This production delivers the full-scale Queen experience massive harmonies\, soaring guitars\, and the electric energy that defined one of rock's greatest bands. Sing along to legendary hits like "Bohemian Rhapsody\," "Another One Bites the Dust\," "We Will Rock You\," and more in a night of energy and eye-popping production.
X-ALT-DESC;FMTTYPE=text/html:Widely recognized for his extraordinary vocal resemblance to Freddie Mercury\, Marc Martel has captivated audiences across the globe. The Canadian native even provided parts of Mercury&rsquo\;s singing voice in the 2018 biopic film Bohemian Rhapsody. This production delivers the full-scale Queen experience&mdash\;massive harmonies\, soaring guitars\, and the electric energy that defined one of rock&rsquo\;s greatest bands. Sing along to legendary hits like &quot\;Bohemian Rhapsody\,&quot\; &quot\;Another One Bites the Dust\,&quot\; &quot\;We Will Rock You\,&quot\; and more in a night of energy and eye-popping production.
LOCATION:Chandler Center for the Arts 250 N Arizona Ave
UID:e.1561.52324
SEQUENCE:3
DTSTAMP:20260424T092501Z
URL:https://business.chandlerchamber.com/events/details/one-vision-of-queen-ft-marc-martel-52324
END:VEVENT

END:VCALENDAR
