BEGIN:VCALENDAR
VERSION:2.0
PRODID:-//ChamberMaster//Event Calendar 2.0//EN
METHOD:PUBLISH
X-PUBLISHED-TTL:P3D
REFRESH-INTERVAL:P3D
CALSCALE:GREGORIAN
BEGIN:VEVENT
DTSTART:20190526T170000Z
DTEND:20190526T210000Z
X-MICROSOFT-CDO-ALLDAYEVENT:FALSE
SUMMARY:OPEN HOUSE
DESCRIPTION:This 4bd/2ba home was recently updated and is move in ready. Just $344\,900. Some of the new upgrades include new concrete in the driveway and walkway with new desert landscaping in the front and backyard. A fresh coat of interior and exterior paint for a modern look. Vaulted ceilings for a bright & open feel. The kitchen has been updated with new recessed lighting\, Quartz counter tops and white cabinets. The Bathrooms consist of new fixtures including toilets\, mirrors and lighting. Plus this house has Solar panels.
X-ALT-DESC;FMTTYPE=text/html:This 4bd/2ba home was recently updated and is move in ready. Just $344\,900. Some of the new upgrades include new concrete in the driveway and walkway with new desert landscaping in the front and backyard. A fresh coat of interior and exterior paint for a modern look. Vaulted ceilings for a bright &amp\; open feel. The kitchen has been updated with new recessed lighting\, Quartz counter tops and white cabinets. The Bathrooms consist of new fixtures including toilets\, mirrors and lighting. Plus this house has Solar panels.
LOCATION:1553 E OAKLAND ST\, Chandler\, AZ 85225
UID:e.1561.36735
SEQUENCE:3
DTSTAMP:20260423T033059Z
URL:https://business.chandlerchamber.com/events/details/open-house-05-26-2019-36735
END:VEVENT

END:VCALENDAR
