BEGIN:VCALENDAR
VERSION:2.0
PRODID:-//ChamberMaster//Event Calendar 2.0//EN
METHOD:PUBLISH
X-PUBLISHED-TTL:P3D
REFRESH-INTERVAL:P3D
CALSCALE:GREGORIAN
BEGIN:VEVENT
DTSTART:20251129T020000Z
DTEND:20251129T040000Z
X-MICROSOFT-CDO-ALLDAYEVENT:FALSE
SUMMARY:Opening Night of the Nutcracker
DESCRIPTION:Join Ballet Etudes for the 39th annual production of "The Nutcracker"! Let Clara's magical journey surround you as she encounters life-sized mice\, swirling snowflakes\, dancing confections and Sugar Plum fairy. A feast for the eyes and ears with colorful costumes paired with Tchaikovsky's original score\, Ballet Etudes' Nutcracker is the perfect way to celebrate the holiday season with the entire family.
X-ALT-DESC;FMTTYPE=text/html:<span style="font-size:16px\;"><span style="font-family:arial\;"><span style="color:#000000\;">Join Ballet Etudes for the 39th annual production of &quot\;The Nutcracker&quot\;! Let Clara&#39\;s magical journey surround you as she encounters life-sized mice\, swirling snowflakes\, dancing confections and Sugar Plum fairy. A feast for the eyes and ears with colorful costumes paired with Tchaikovsky&#39\;s original score\, Ballet Etudes&#39\; Nutcracker is the perfect way to celebrate the holiday season with the entire family.</span></span></span>
LOCATION:Chandler Center for the Arts 250 North Arizona Avenue Chandler\, Arizona 85225
UID:e.1561.51920
SEQUENCE:3
DTSTAMP:20260424T063653Z
URL:https://business.chandlerchamber.com/events/details/opening-night-of-the-nutcracker-51920
END:VEVENT

END:VCALENDAR
