BEGIN:VCALENDAR
VERSION:2.0
PRODID:-//ChamberMaster//Event Calendar 2.0//EN
METHOD:PUBLISH
X-PUBLISHED-TTL:P3D
REFRESH-INTERVAL:P3D
CALSCALE:GREGORIAN
BEGIN:VEVENT
DTSTART:20190314T000000Z
DTEND:20190314T020000Z
X-MICROSOFT-CDO-ALLDAYEVENT:FALSE
SUMMARY:Organic Wine Taste & Vote
DESCRIPTION:A WINE WEDNESDAY $10 TASTING EVENT\n\nTryst Cafe & Orangewood Wines present:\n\nOrganic Wine Taste & Vote\n\nMARCH 13TH 5-7PM
X-ALT-DESC;FMTTYPE=text/html:A WINE WEDNESDAY $10 TASTING EVENT<br />\nTryst Cafe &amp\; Orangewood Wines present:<br />\nOrganic Wine Taste &amp\; Vote<br />\nMARCH 13TH 5-7PM
LOCATION:TRYST Cafe 4205 S Gilbert Rd Chandler\, AZ 85249
UID:e.1561.36320
SEQUENCE:3
DTSTAMP:20260423T045245Z
URL:https://business.chandlerchamber.com/events/details/organic-wine-taste-vote-36320
END:VEVENT

END:VCALENDAR
