BEGIN:VCALENDAR
VERSION:2.0
PRODID:-//ChamberMaster//Event Calendar 2.0//EN
METHOD:PUBLISH
X-PUBLISHED-TTL:P3D
REFRESH-INTERVAL:P3D
CALSCALE:GREGORIAN
BEGIN:VEVENT
DTSTART:20190307T013000Z
DTEND:20190307T023000Z
X-MICROSOFT-CDO-ALLDAYEVENT:FALSE
SUMMARY:Ostrich Festival Beer Pouring Training
DESCRIPTION:Mandatory training for all Ostrich Festival volunteers stationed at the bars and in the Volunteer Lounge- must attend either March 5th or March 6th
X-ALT-DESC;FMTTYPE=text/html:<span style="color: rgb(51\, 51\, 51)\; font-family: sans-serif\, Arial\, Verdana\, &quot\;Trebuchet MS&quot\;\; font-size: 13px\; background-color: rgb(255\, 255\, 255)\;">Mandatory training for all Ostrich Festival volunteers stationed at the bars and in the Volunteer Lounge- must attend either March 5th or March 6th&nbsp\;</span>
LOCATION:Chandler Chamber of Commerce 25 S. Arizona Place Suite 201 Chandler\, AZ 85225
UID:e.1561.36407
SEQUENCE:3
DTSTAMP:20260423T045605Z
URL:https://business.chandlerchamber.com/events/details/ostrich-festival-beer-pouring-training-36407
END:VEVENT

END:VCALENDAR
