BEGIN:VCALENDAR
VERSION:2.0
PRODID:-//ChamberMaster//Event Calendar 2.0//EN
METHOD:PUBLISH
X-PUBLISHED-TTL:P3D
REFRESH-INTERVAL:P3D
CALSCALE:GREGORIAN
BEGIN:VEVENT
DTSTART:20171007T173000Z
DTEND:20171007T190000Z
X-MICROSOFT-CDO-ALLDAYEVENT:FALSE
SUMMARY:Our Stories - Adrenaline\, Excitement and Fear: A World War II Navy Veteran's Story
DESCRIPTION:World War II Navy veteran and Sun Lakes resident Jack Holder describes his military experiences from surviving the bombing of Pearl Harbor in 1941 to flying missions during the Battles of Midway\, Guadalcanal and the Solomon Islands. In 1943\, Jack served in England with a B-24 group\, flying reconnaissance and anti-submarine duty. He received many medals and commendations for his service. For more information\, visit chandlermuseum.org The Our Stories speaker series hosts speakers throughout the year to provide expert insight into the history of Chandler\, the Valley and Arizona. Presentations in this series are presented by the Chandler Museum\, Chandler Historical Society\, Chandler Public Library and the City of Chandler\, bringing arts\, history and culture to Chandler residents and visitors.
X-ALT-DESC;FMTTYPE=text/html:World War II Navy veteran and Sun Lakes resident Jack Holder describes his military experiences from surviving the bombing of Pearl Harbor in 1941 to flying missions during the Battles of Midway\, Guadalcanal and the Solomon Islands. In 1943\, Jack served in England with a B-24 group\, flying reconnaissance and anti-submarine duty. He received many medals and commendations for his service. For more information\, visit chandlermuseum.org The Our Stories speaker series hosts speakers throughout the year to provide expert insight into the history of Chandler\, the Valley and Arizona. Presentations in this series are presented by the Chandler Museum\, Chandler Historical Society\, Chandler Public Library and the City of Chandler\, bringing arts\, history and culture to Chandler residents and visitors.
LOCATION:Chandler Downtown Library\, 22 S. Delaware Street
UID:e.1561.19156
SEQUENCE:3
DTSTAMP:20260424T051542Z
URL:https://business.chandlerchamber.com/events/details/our-stories-adrenaline-excitement-and-fear-a-world-war-ii-navy-veteran-s-story-19156
END:VEVENT

END:VCALENDAR
