BEGIN:VCALENDAR
VERSION:2.0
PRODID:-//ChamberMaster//Event Calendar 2.0//EN
METHOD:PUBLISH
X-PUBLISHED-TTL:P3D
REFRESH-INTERVAL:P3D
CALSCALE:GREGORIAN
BEGIN:VEVENT
DTSTART:20170819T173000Z
DTEND:20170819T190000Z
X-MICROSOFT-CDO-ALLDAYEVENT:FALSE
SUMMARY:Our Stories: And Tiko-Tu? The Midcentury Architecture of Greater Phoenix' East V
DESCRIPTION:Architect Mark Vinson and local historic preservationist Christine Weiss will present their latest book\, identifying and celebrating all types of buildings\, structures\, places and spaces from the mid-twentieth century in the East Valley of greater Phoenix. In addition\, they will place a particular emphasis on Chandler's architecture history from this intriguing and inspired era. The Our Stories speaker series hosts speakers throughout the year to provide expert insight into the history of Chandler\, the Valley and Arizona. Presentations in this series are presented by the Chandler Museum\, Chandler Historical Society\, Chandler Public Library and the City of Chandler Cultural Affairs Division\, bringing arts\, history and culture to Chandler residents and visitors.
X-ALT-DESC;FMTTYPE=text/html:Architect Mark Vinson and local historic preservationist Christine Weiss will present their latest book\, identifying and celebrating all types of buildings\, structures\, places and spaces from the mid-twentieth century in the East Valley of greater Phoenix. In addition\, they will place a particular emphasis on Chandler&#39\;s architecture history from this intriguing and inspired era. The Our Stories speaker series hosts speakers throughout the year to provide expert insight into the history of Chandler\, the Valley and Arizona. Presentations in this series are presented by the Chandler Museum\, Chandler Historical Society\, Chandler Public Library and the City of Chandler Cultural Affairs Division\, bringing arts\, history and culture to Chandler residents and visitors.
LOCATION:Chandler Public Library- Downtown 22 S Delaware St\, Chandler\, AZ 85225
UID:e.1561.17815
SEQUENCE:3
DTSTAMP:20260424T064248Z
URL:https://business.chandlerchamber.com/events/details/our-stories-and-tiko-tu-the-midcentury-architecture-of-greater-phoenix-east-v-17815
END:VEVENT

END:VCALENDAR
