BEGIN:VCALENDAR
VERSION:2.0
PRODID:-//ChamberMaster//Event Calendar 2.0//EN
METHOD:PUBLISH
X-PUBLISHED-TTL:P3D
REFRESH-INTERVAL:P3D
CALSCALE:GREGORIAN
BEGIN:VEVENT
DTSTART:20201023T010000Z
DTEND:20201023T020000Z
X-MICROSOFT-CDO-ALLDAYEVENT:FALSE
SUMMARY:Our Stories - Fight Night in Chandler: March 22\, 1967
DESCRIPTION:Our Stories Fight Night in Chandler: March 22\, 1967 Thursday\, October 22\, 6pm\, Virtual program\, pre-registration required Zora Folley\, professional boxer from Chandler\, got his shot at the heavyweight title when he fought Muhammad Ali on March 22\, 1967\, in New York's Madison Square Garden. With the television broadcast blacked out\, and without a radio broadcast\, it looked like Chandler residents would miss out on their hometown hero's biggest moment. "Fight Night in Chandler: March 22\, 1967" tells the story of how Chandlerites were able to overcome these obstacles and find a unique way to experience the biggest fight night in Chandler history. Register here: https://chandlerlibrary.libcal.com/event/7135493
X-ALT-DESC;FMTTYPE=text/html:Our Stories Fight Night in Chandler: March 22\, 1967 Thursday\, October 22\, 6pm\, Virtual program\, pre-registration required Zora Folley\, professional boxer from Chandler\, got his shot at the heavyweight title when he fought Muhammad Ali on March 22\, 1967\, in New York&rsquo\;s Madison Square Garden. With the television broadcast blacked out\, and without a radio broadcast\, it looked like Chandler residents would miss out on their hometown hero&rsquo\;s biggest moment. &ldquo\;Fight Night in Chandler: March 22\, 1967&rdquo\; tells the story of how Chandlerites were able to overcome these obstacles and find a unique way to experience the biggest fight night in Chandler history. Register here: https://chandlerlibrary.libcal.com/event/7135493
LOCATION:Virtual Program
UID:e.1561.39268
SEQUENCE:3
DTSTAMP:20260425T002727Z
URL:https://business.chandlerchamber.com/events/details/our-stories-fight-night-in-chandler-march-22-1967-39268
END:VEVENT

END:VCALENDAR
