BEGIN:VCALENDAR
VERSION:2.0
PRODID:-//ChamberMaster//Event Calendar 2.0//EN
METHOD:PUBLISH
X-PUBLISHED-TTL:P3D
REFRESH-INTERVAL:P3D
CALSCALE:GREGORIAN
BEGIN:VEVENT
DTSTART:20171028T173000Z
DTEND:20171028T190000Z
X-MICROSOFT-CDO-ALLDAYEVENT:FALSE
SUMMARY:Our Stories - From Chandler to the Vietnam War: A Conversation with Maria Luisa Ayala Mellman\, Army Combat Nurse
DESCRIPTION:Chandler native Maria Luisa Ayala Mellman shares her wartime experience at the 12th Evacuation Hospital near Saigon\, Vietnam. Join Maria Luisa and Dr. Christine Marin as they provide insight into the experiences of Vietnam War nurses\, Chandler's historic Mexican American community\, and the how the war affected local towns and communities. For more information\, visit chandlermuseum.org The Our Stories speaker series hosts speakers throughout the year to provide expert insight into the history of Chandler\, the Valley and Arizona. Presentations in this series are presented by the Chandler Museum\, Chandler Historical Society\, Chandler Public Library and the City of Chandler\, bringing arts\, history and culture to Chandler residents and visitors.
X-ALT-DESC;FMTTYPE=text/html:Chandler native Maria Luisa Ayala Mellman shares her wartime experience at the 12th Evacuation Hospital near Saigon\, Vietnam. Join Maria Luisa and Dr. Christine Marin as they provide insight into the experiences of Vietnam War nurses\, Chandler&rsquo\;s historic Mexican American community\, and the how the war affected local towns and communities. For more information\, visit chandlermuseum.org The Our Stories speaker series hosts speakers throughout the year to provide expert insight into the history of Chandler\, the Valley and Arizona. Presentations in this series are presented by the Chandler Museum\, Chandler Historical Society\, Chandler Public Library and the City of Chandler\, bringing arts\, history and culture to Chandler residents and visitors.
LOCATION:Chandler Downtown Library\, 22 S. Delaware Street
UID:e.1561.19157
SEQUENCE:3
DTSTAMP:20260424T035807Z
URL:https://business.chandlerchamber.com/events/details/our-stories-from-chandler-to-the-vietnam-war-a-conversation-with-maria-luisa-ayala-mellman-army-combat-nurse-19157
END:VEVENT

END:VCALENDAR
