BEGIN:VCALENDAR
VERSION:2.0
PRODID:-//ChamberMaster//Event Calendar 2.0//EN
METHOD:PUBLISH
X-PUBLISHED-TTL:P3D
REFRESH-INTERVAL:P3D
CALSCALE:GREGORIAN
BEGIN:VEVENT
DTSTART:20220730T173000Z
DTEND:20220730T190000Z
X-MICROSOFT-CDO-ALLDAYEVENT:FALSE
SUMMARY:Our Stories: They Beat the Heat
DESCRIPTION:They Beat the Heat: How Arizonans Survived the Desert Heat in the Days Before Air Conditioning Imagine a time before the hum of air conditioners became an essential part of life in the desert. What have we forgotten about surviving summer heat? What can we learn from the wisdom of those who came before us\, as climate becomes an ever more pressing issue? Join us as writer and historian Christine Reid draws from the multi-cultural influences of the people who built Arizona. Discover how creative adaptations in lifestyle\, architecture\, building materials\, town planning\, and even humor contributed to survival in intense desert temperatures. This program is made possible by Arizona Humanities. Guarantee your seat by registering: https://www.eventbrite.com/e/our-stories-they-beat-the-heat-registration-332943501977 General Information: Free Admission Tuesday-Saturday 10am-5pm\, Sunday 1-5pm\, Closed Monday East Valley History Center\, Thursdays\, 2-5pm
X-ALT-DESC;FMTTYPE=text/html:They Beat the Heat: How Arizonans Survived the Desert Heat in the Days Before Air Conditioning Imagine a time before the hum of air conditioners became an essential part of life in the desert. What have we forgotten about surviving summer heat? What can we learn from the wisdom of those who came before us\, as climate becomes an ever more pressing issue? Join us as writer and historian Christine Reid draws from the multi-cultural influences of the people who built Arizona. Discover how creative adaptations in lifestyle\, architecture\, building materials\, town planning\, and even humor contributed to survival in intense desert temperatures. This program is made possible by Arizona Humanities. Guarantee your seat by registering: https://www.eventbrite.com/e/our-stories-they-beat-the-heat-registration-332943501977 General Information: Free Admission Tuesday-Saturday 10am-5pm\, Sunday 1-5pm\, Closed Monday East Valley History Center\, Thursdays\, 2-5pm
LOCATION:Chandler Museum 300 S. Chandler Village Drive Chandler\, Arizona 85226
UID:e.1561.40979
SEQUENCE:3
DTSTAMP:20260424T010543Z
URL:https://business.chandlerchamber.com/events/details/our-stories-they-beat-the-heat-40979
END:VEVENT

END:VCALENDAR
