BEGIN:VCALENDAR
VERSION:2.0
PRODID:-//ChamberMaster//Event Calendar 2.0//EN
METHOD:PUBLISH
X-PUBLISHED-TTL:P3D
REFRESH-INTERVAL:P3D
CALSCALE:GREGORIAN
BEGIN:VEVENT
DTSTART:20171014T000000Z
DTEND:20171230T060000Z
X-MICROSOFT-CDO-ALLDAYEVENT:FALSE
SUMMARY:Party on the Patio at The Forum
DESCRIPTION:Every Friday\, the Public is invited to Party on the Patio at the Hottest Spot in Chandler! Join us for Free Food\, Live Music\, Drink Specials\, and Fun!
X-ALT-DESC;FMTTYPE=text/html:Every Friday\, the Public is invited to Party on the Patio at the Hottest Spot in Chandler! Join us for Free Food\, Live Music\, Drink Specials\, and Fun!
LOCATION:The Forum 2301 S. Stearman Dr. Chandler\, AZ 85286
UID:e.1561.19191
SEQUENCE:3
DTSTAMP:20260424T011309Z
URL:https://business.chandlerchamber.com/events/details/party-on-the-patio-at-the-forum-19191
END:VEVENT

END:VCALENDAR
