BEGIN:VCALENDAR
VERSION:2.0
PRODID:-//ChamberMaster//Event Calendar 2.0//EN
METHOD:PUBLISH
X-PUBLISHED-TTL:P3D
REFRESH-INTERVAL:P3D
CALSCALE:GREGORIAN
BEGIN:VEVENT
DTSTART:20230605T160000Z
DTEND:20230605T170000Z
X-MICROSOFT-CDO-ALLDAYEVENT:FALSE
SUMMARY:"Unlock a different avenue for financial growth beyond the confines of the stock market."
DESCRIPTION:Kahuna Investments is a real estate investment company that specializes in cash flowing apartments. With over 13 years of experience and a portfolio of $250 million in property with over 4000 beds\, they have a proven track record of success. Our approach to investing involves identifying undervalued properties\, adding value through renovations and management improvements\, and generating consistent cash flow for investors.\n\nIf you're interested in learning more about passive investing and Kahuna Investments\, attending their Coffee and Donuts event could be a great opportunity to get more information and ask any questions you might have.
X-ALT-DESC;FMTTYPE=text/html:<div style="background:#F7F7F8\; border:solid #D9D9E3 1.0pt\; padding:0in 0in 0in 0in"><span style="color:#374151"><span style="font-family:segoe ui\,sans-serif">Kahuna Investments is a real estate investment company that specializes in cash flowing apartments. With over 13 years of experience and a portfolio of $250 million in property with over 4000 beds\, they have a proven track record of success. Our approach to investing involves identifying undervalued properties\, adding value through renovations and management improvements\, and generating consistent cash flow for investors.</span></span><br />\n<span style="color:#374151"><span style="font-family:segoe ui\,sans-serif">If you&#39\;re interested in learning more about passive investing and Kahuna Investments\, attending their Coffee and Donuts event could be a great opportunity to get more information and ask any questions you might have.</span></span></div>\n
LOCATION:Kahuna Investments 208 W Chandler Heights Rd. Chandler\, AZ 85178
UID:e.1561.48310
SEQUENCE:3
DTSTAMP:20260423T084636Z
URL:https://business.chandlerchamber.com/events/details/passive-investing-for-busy-professionls-05-16-2023-48310
END:VEVENT

END:VCALENDAR
