BEGIN:VCALENDAR
VERSION:2.0
PRODID:-//ChamberMaster//Event Calendar 2.0//EN
METHOD:PUBLISH
X-PUBLISHED-TTL:P3D
REFRESH-INTERVAL:P3D
CALSCALE:GREGORIAN
BEGIN:VEVENT
DTSTART:20200314T170000Z
DTEND:20200525T000000Z
X-MICROSOFT-CDO-ALLDAYEVENT:FALSE
SUMMARY:Patios\, Pools\, and the Invention of the American Backyard
DESCRIPTION:Patios\, Pools\, and the Invention of the American Backyard March 14- May 24\, 2020 The suburban backyard is an American original an invention so familiar it hardly seems invented at all. Patios\, Pools\, & the Invention of the American Backyard explores the mid-century backyard from the rise of the suburbs and tract houses\, to the beauty of postwar garden design\, and the birth of the environmental movement. Filled with vintage photographs\, historic drawings\, and fun period advertisements\, the exhibition reveals how these spaces became such an integral part of American popular culture. Patios\, Pools\, & the Invention of the American Backyard is presented by the Smithsonian Institution
X-ALT-DESC;FMTTYPE=text/html:Patios\, Pools\, and the Invention of the American Backyard March 14- May 24\, 2020 The suburban backyard is an American original&mdash\;an invention so familiar it hardly seems invented at all. Patios\, Pools\, &amp\; the Invention of the American Backyard explores the mid-century backyard from the rise of the suburbs and tract houses\, to the beauty of postwar garden design\, and the birth of the environmental movement. Filled with vintage photographs\, historic drawings\, and fun period advertisements\, the exhibition reveals how these spaces became such an integral part of American popular culture. Patios\, Pools\, &amp\; the Invention of the American Backyard is presented by the Smithsonian Institution
LOCATION:Chandler Museum 300 S. Chandler Village Dr. Chandler\, AZ 85226
UID:e.1561.38894
SEQUENCE:3
DTSTAMP:20260424T152602Z
URL:https://business.chandlerchamber.com/events/details/patios-pools-and-the-invention-of-the-american-backyard-38894
END:VEVENT

END:VCALENDAR
