BEGIN:VCALENDAR
VERSION:2.0
PRODID:-//ChamberMaster//Event Calendar 2.0//EN
METHOD:PUBLISH
X-PUBLISHED-TTL:P3D
REFRESH-INTERVAL:P3D
CALSCALE:GREGORIAN
BEGIN:VEVENT
DTSTART:20171128T180000Z
DTEND:20171129T060000Z
X-MICROSOFT-CDO-ALLDAYEVENT:FALSE
SUMMARY:Paw Town Angels Fundraiser
DESCRIPTION:Proceeds benefit the homeless dogs. There will be a Paw Town Angels Boutique with great gift items. Came see some of the adoptable dogs. Bring you dog in to seat on the dog friendly patio
X-ALT-DESC;FMTTYPE=text/html:Proceeds benefit the homeless dogs. There will be a Paw Town Angels Boutique with great gift items. Came see some of the adoptable dogs. Bring you dog in to seat on the dog friendly patio
LOCATION:Nandos Mexican Cafe 1890 W. Germann Chandler\, AZ
UID:e.1561.19637
SEQUENCE:3
DTSTAMP:20260424T022119Z
URL:https://business.chandlerchamber.com/events/details/paw-town-angels-fundraiser-19637
END:VEVENT

END:VCALENDAR
