BEGIN:VCALENDAR
VERSION:2.0
PRODID:-//ChamberMaster//Event Calendar 2.0//EN
METHOD:PUBLISH
X-PUBLISHED-TTL:P3D
REFRESH-INTERVAL:P3D
CALSCALE:GREGORIAN
BEGIN:VEVENT
DTSTART:20251115T160000Z
DTEND:20251115T200000Z
X-MICROSOFT-CDO-ALLDAYEVENT:FALSE
SUMMARY:Paws & Produce
DESCRIPTION:You and your four-legged friend are invited to the Farmers Market! With beautiful weather and vendors geared especially toward your pup\, you won't want to leave them at home. The Downtown Chandler Farmers Market features dozens of local vendors including farming\, gourmet food vendors and artisans. The Market happens every Saturday in Dr. A.J. Chandler Park! Come down\, shop around and grab a bite to eat at one of the many restaurants in the Downtown. We have something for the whole family! Rain or shine\, the fun's always on in the heart of Chandler! Bring your pups along for the adventure- just keep them leashed and ready to mingle!
X-ALT-DESC;FMTTYPE=text/html:You and your four-legged friend are invited to the Farmers Market! With beautiful weather and vendors geared especially toward your pup\, you won&#39\;t want to leave them at home. The Downtown Chandler Farmers Market features dozens of local vendors including farming\, gourmet food vendors and artisans. The Market happens every Saturday in Dr. A.J. Chandler Park! Come down\, shop around and grab a bite to eat at one of the many restaurants in the Downtown. We have something for the whole family! Rain or shine\, the fun&#39\;s always on in the heart of Chandler! Bring your pups along for the adventure- just keep them leashed and ready to mingle!
LOCATION:Dr. A.J. Chandler Park West & East Ramadas 3 S. Arizona Avenue Chandler\, AZ 85225
UID:e.1561.51912
SEQUENCE:3
DTSTAMP:20260424T063828Z
URL:https://business.chandlerchamber.com/events/details/paws-produce-11-15-2025-51912
END:VEVENT

END:VCALENDAR
