BEGIN:VCALENDAR
VERSION:2.0
PRODID:-//ChamberMaster//Event Calendar 2.0//EN
METHOD:PUBLISH
X-PUBLISHED-TTL:P3D
REFRESH-INTERVAL:P3D
CALSCALE:GREGORIAN
BEGIN:VEVENT
DTSTART:20190407T170000Z
DTEND:20190407T170000Z
X-MICROSOFT-CDO-ALLDAYEVENT:FALSE
SUMMARY:Phoenix Pride Parade
DESCRIPTION:The City of Chandler Diversity Office invites you to walk alongside other Chandler residents at this year's Phoenix Pride Parade.
X-ALT-DESC;FMTTYPE=text/html:The City of Chandler Diversity Office invites you to walk alongside other Chandler residents at this year&#39\;s Phoenix Pride Parade.
LOCATION:Begins: 3rd St & Thomas Ends: 3rd St & Indian School
UID:e.1561.36622
SEQUENCE:3
DTSTAMP:20260425T121110Z
URL:https://business.chandlerchamber.com/events/details/phoenix-pride-parade-36622
END:VEVENT

END:VCALENDAR
