BEGIN:VCALENDAR
VERSION:2.0
PRODID:-//ChamberMaster//Event Calendar 2.0//EN
METHOD:PUBLISH
X-PUBLISHED-TTL:P3D
REFRESH-INTERVAL:P3D
CALSCALE:GREGORIAN
BEGIN:VEVENT
DTSTART:20200327T020000Z
DTEND:20200327T050000Z
X-MICROSOFT-CDO-ALLDAYEVENT:FALSE
SUMMARY:Pizza Muffin Beer Dinner
DESCRIPTION:3RD EVER PIZZA MUFFIN BEER DINNER\n\nNever seen before pizza muffin flavors\n\n\n\n\n\n\nWhen: March 26th\, 7 pm (doors open @ 6:30pm)\n\nWhere: Floridino's Banquet Room\n\nWhat: Four-course of unique one of a kind pizza muffins paired with OHSO Brewery beers\n\nCost: $45/person (all-inclusive gratuity and taxes included)\n\nTICKETS GO ON SALE FEB 21st @ 9AM.\n\nSpace is limited! Call today: (480)-812-843
X-ALT-DESC;FMTTYPE=text/html:<div class="header-title full-width" style="box-sizing: border-box\; width: 1583px\; height: auto\; padding-top: 50px\; padding-right: 0px\; padding-left: 0px\; background-color: rgb(24\, 43\, 27)\; position: relative\; border-bottom: 3px solid rgb(255\, 255\, 255)\; color: rgb(68\, 68\, 68)\; font-family: Arial\, sans-serif\; font-size: 18px\; padding-bottom: 0px !important\; margin-bottom: 10vh !important\;">\n<div class="container-fluid" style="box-sizing: border-box\; width: 1345.55px\; padding-right: 15px\; padding-left: 15px\; margin-right: auto\; margin-left: auto\;">\n<div class="row text-center" style="box-sizing: border-box\; display: flex\; flex-wrap: wrap\; margin: 40px auto 0px\; text-align: center !important\;">\n<div class="col-md-12" style="box-sizing: border-box\; position: relative\; width: 1315.55px\; min-height: 1px\; padding-right: 15px\; padding-left: 15px\; flex: 0 0 100%\; max-width: 100%\;">\n<h2 style="box-sizing: border-box\; margin-top: 0px\; margin-bottom: 0.5rem\; font-family: &quot\;Floridinos Headers&quot\;\; font-weight: 500\; line-height: 88px\; color: rgb(255\, 255\, 255)\; font-size: 76px\; text-transform: uppercase\; text-shadow: rgb(0\, 0\, 0) 5px 5px\;">3RD EVER PIZZA MUFFIN BEER DINNER</h2>\n\n<h3 style="box-sizing: border-box\; margin-top: 20px\; margin-bottom: 0.5rem\; font-family: &quot\;Floridinos Subheaders&quot\;\; font-weight: 500\; line-height: 72px\; color: rgb(232\, 182\, 150)\; font-size: 60px\; text-shadow: rgb(0\, 0\, 0) 2px 2px\;">Never seen before pizza muffin flavors</h3>\n</div>\n</div>\n</div>\n</div>\n\n<div class="bg-image lazyloaded" data-bg="https://s31830.pcdn.co/wp-content/uploads/2019/06/Screen-Shot-2019-09-25-at-12.38.16-PM.png" style="box-sizing: border-box\; background-image: url(&quot\;https://s31830.pcdn.co/wp-content/uploads/2019/06/Screen-Shot-2019-09-25-at-12.38.16-PM.png&quot\;)\; background-size: cover\; background-position: center center\; background-repeat: no-repeat\; height: 400px\; width: 1583px\; position: relative\; margin-top: -10vh\; text-align: center\; z-index: 0\; opacity: 1\; transition: opacity 0.3s ease 0s\; display: flex\; flex-flow: column nowrap\; place-content: center\; align-items: center\; padding-top: 100px\; color: rgb(68\, 68\, 68)\; font-family: Arial\, sans-serif\; font-size: 18px\; background-color: rgb(255\, 255\, 255)\;">\n<p style="box-sizing: border-box\; margin-top: 0px\; margin-bottom: 0px\; color: rgb(255\, 255\, 255)\;"><span style="box-sizing: border-box\; font-weight: bolder\;">When:&nbsp\;</span>March 26th\, 7 pm (doors open @ 6:30pm)</p>\n\n<p style="box-sizing: border-box\; margin-top: 0px\; margin-bottom: 0px\; color: rgb(255\, 255\, 255)\;"><span style="box-sizing: border-box\; font-weight: bolder\;">Where:&nbsp\;</span>Floridino&rsquo\;s Banquet Room</p>\n\n<p style="box-sizing: border-box\; margin-top: 0px\; margin-bottom: 0px\; color: rgb(255\, 255\, 255)\;"><span style="box-sizing: border-box\; font-weight: bolder\;">What:&nbsp\;</span>Four-course of unique one of a kind pizza muffins paired with OHSO Brewery beers</p>\n\n<p style="box-sizing: border-box\; margin-top: 0px\; margin-bottom: 0px\; color: rgb(255\, 255\, 255)\;"><span style="box-sizing: border-box\; font-weight: bolder\;">Cost:&nbsp\;</span>$45/person (all-inclusive gratuity and taxes included)</p>\n\n<p style="box-sizing: border-box\; margin-top: 0px\; margin-bottom: 0px\; color: rgb(255\, 255\, 255)\;">TICKETS GO ON SALE FEB 21st @ 9AM.</p>\n\n<p style="box-sizing: border-box\; margin-top: 0px\; margin-bottom: 0px\; color: rgb(255\, 255\, 255)\;">Space is limited! Call today:&nbsp\;<a href="tel:480-812-8433/" style="box-sizing: border-box\; color: rgb(255\, 255\, 255)\; text-decoration-line: none\; background-color: transparent\; margin-bottom: 0px\;">(480)-812-843</a></p>\n</div>\n
LOCATION:
UID:e.1561.38915
SEQUENCE:3
DTSTAMP:20260424T163201Z
URL:https://business.chandlerchamber.com/events/details/pizza-muffin-beer-dinner-38915
END:VEVENT

END:VCALENDAR
