BEGIN:VCALENDAR
VERSION:2.0
PRODID:-//ChamberMaster//Event Calendar 2.0//EN
METHOD:PUBLISH
X-PUBLISHED-TTL:P3D
REFRESH-INTERVAL:P3D
CALSCALE:GREGORIAN
BEGIN:VEVENT
DTSTART;VALUE=DATE:20180610
DTEND;VALUE=DATE:20180611
TRANSP:TRANSPARENT
X-MICROSOFT-CDO-ALLDAYEVENT:TRUE
SUMMARY:Pizza with a Purpose & The Ultimate Shopping Event
DESCRIPTION:California Pizza Kitchen - they are donating 20% of your check to American Heart Association from 6-10 to 6-17\; On Sunday\, June 10th for a Heart-Shaped Pizza Auction where 100% of the proceeds go to American Heart Association.\n\nMacys - Shop all day Sunday\, June 10th\; Extra 30% off brands that never go on sale\; also get $10 off every $50 spend in cosmetics and Fragrances\; Want a personal shopper? Book your appt with our MyStylist\, Kate Ward @ 480-7610-1860
X-ALT-DESC;FMTTYPE=text/html:California Pizza Kitchen - they are donating 20% of your check to American Heart Association from 6-10 to 6-17\; On Sunday\, June 10th for a Heart-Shaped Pizza Auction where 100% of the proceeds go to American Heart Association.<br />\nMacys - Shop all day Sunday\, June 10th\; Extra 30% off brands that never go on sale\; also get $10 off every $50 spend in cosmetics and Fragrances\; Want a personal shopper? Book your appt with our MyStylist\, Kate Ward @ 480-7610-1860&nbsp\;&nbsp\;&nbsp\;&nbsp\;
LOCATION:Macy's Chandler Fashion Center California Pizza Kitchen 3107 W Chandler Blvd Chandler\, AZ 85226
UID:e.1561.33686
SEQUENCE:3
DTSTAMP:20260423T163447Z
URL:https://business.chandlerchamber.com/events/details/pizza-with-a-purpose-the-ultimate-shopping-event-33686
END:VEVENT

END:VCALENDAR
