BEGIN:VCALENDAR
VERSION:2.0
PRODID:-//ChamberMaster//Event Calendar 2.0//EN
METHOD:PUBLISH
X-PUBLISHED-TTL:P3D
REFRESH-INTERVAL:P3D
CALSCALE:GREGORIAN
BEGIN:VEVENT
DTSTART:20220319T180000Z
DTEND:20220319T210000Z
X-MICROSOFT-CDO-ALLDAYEVENT:FALSE
SUMMARY:Play Day
DESCRIPTION:Bring your family and toy with classic games and toys. Brush up on the classics or explore something new! Each month features a different set of games and toys. Outdoor games and activities will be available in the courtyard weather permitting. Drop in for a day of play from 11am-2pm. Saturday\, March 19th\, 11am   2pm Games of the Dust Bowl Era What did kids play with during the dust bowl era? Purchased or homemade\, this selection will highlight the history of the 1930s. General Information: Tuesday-Saturday 10am-5pm\, Sunday 1-5pm\, Closed Monday East Valley History Center\, Thursdays\, 2-5pm
X-ALT-DESC;FMTTYPE=text/html:Bring your family and toy with classic games and toys. Brush up on the classics or explore something new! Each month features a different set of games and toys. Outdoor games and activities will be available in the courtyard weather permitting. Drop in for a day of play from 11am-2pm. Saturday\, March 19th\, 11am &ndash\; 2pm Games of the Dust Bowl Era What did kids play with during the dust bowl era? Purchased or homemade\, this selection will highlight the history of the 1930s. General Information: Tuesday-Saturday 10am-5pm\, Sunday 1-5pm\, Closed Monday East Valley History Center\, Thursdays\, 2-5pm
LOCATION:Chandler Museum 300 S. Chandler Village Drive Chandler\, Arizona 85226
UID:e.1561.40628
SEQUENCE:3
DTSTAMP:20260423T234004Z
URL:https://business.chandlerchamber.com/events/details/play-day-03-19-2022-40628
END:VEVENT

END:VCALENDAR
