BEGIN:VCALENDAR
VERSION:2.0
PRODID:-//ChamberMaster//Event Calendar 2.0//EN
METHOD:PUBLISH
X-PUBLISHED-TTL:P3D
REFRESH-INTERVAL:P3D
CALSCALE:GREGORIAN
BEGIN:VEVENT
DTSTART:20220423T180000Z
DTEND:20220423T210000Z
X-MICROSOFT-CDO-ALLDAYEVENT:FALSE
SUMMARY:Play Day: Lawn Games
DESCRIPTION:Join us in the courtyard for croquet and other outdoor lawn games that will be sure to satisfy even the most competitive groups. Bring your family and toy with classic games and toys. Brush up on the classics or explore something new! Each month features a different set of games and toys. Outdoor games and activities will be available in the courtyard weather permitting. Register and drop in for a day of play from 11am-2pm. https://www.eventbrite.com/e/play-day-lawn-games-tickets-276985249337 General Information: Free Admission Tuesday-Saturday 10am-5pm\, Sunday 1-5pm\, Closed Monday East Valley History Center\, Thursdays\, 2-5pm Closures: Sunday\, April 17
X-ALT-DESC;FMTTYPE=text/html:Join us in the courtyard for croquet and other outdoor lawn games that will be sure to satisfy even the most competitive groups. Bring your family and toy with classic games and toys. Brush up on the classics or explore something new! Each month features a different set of games and toys. Outdoor games and activities will be available in the courtyard weather permitting. Register and drop in for a day of play from 11am-2pm. https://www.eventbrite.com/e/play-day-lawn-games-tickets-276985249337 General Information: Free Admission Tuesday-Saturday 10am-5pm\, Sunday 1-5pm\, Closed Monday East Valley History Center\, Thursdays\, 2-5pm Closures: Sunday\, April 17
LOCATION:Chandler Museum 300 S. Chandler Village Drive Chandler\, Arizona 85226
UID:e.1561.40651
SEQUENCE:3
DTSTAMP:20260423T221835Z
URL:https://business.chandlerchamber.com/events/details/play-day-lawn-games-40651
END:VEVENT

END:VCALENDAR
