BEGIN:VCALENDAR
VERSION:2.0
PRODID:-//ChamberMaster//Event Calendar 2.0//EN
METHOD:PUBLISH
X-PUBLISHED-TTL:P3D
REFRESH-INTERVAL:P3D
CALSCALE:GREGORIAN
BEGIN:VEVENT
DTSTART:20190322T150000Z
DTEND:20190322T163000Z
X-MICROSOFT-CDO-ALLDAYEVENT:FALSE
SUMMARY:Policy Impact Series
DESCRIPTION:Superintendent of Public Instruction Kathy Hoffman will address our members on the ever-important subject of public education in Arizona and what her office is doing to improve the state of our public school system. Arizona Board of Regents Vice Chair Larry Penley will give an in-depth presentation on their priorities\, college enrollment and completion\, wages of graduates   and some of the strategies to address attainment and sustainable funding for the universities. It will be a very comprehensive look into the state of education in Arizona!
X-ALT-DESC;FMTTYPE=text/html:<span style="font-family:times new roman\,serif\;"><span style="font-size:12.0pt\;">Superintendent of Public Instruction Kathy Hoffman will address our members on the ever-important subject of public education in Arizona and what her office is doing to improve the state of our public school system. Arizona Board of Regents Vice Chair Larry Penley will give an in-depth presentation on their priorities\, college enrollment and completion\, wages of graduates &ndash\; and some of the strategies to address attainment and sustainable funding for the universities. It will be a very comprehensive look into the state of education in Arizona!</span></span>
LOCATION:Chandler Chamber of Commerce 25 South Arizona Place Suite 201 Chandler\, AZ 85225
UID:e.1561.12386
SEQUENCE:3
DTSTAMP:20260423T061211Z
URL:https://business.chandlerchamber.com/events/details/policy-impact-series-03-22-2019-12386
END:VEVENT

END:VCALENDAR
