BEGIN:VCALENDAR
VERSION:2.0
PRODID:-//ChamberMaster//Event Calendar 2.0//EN
METHOD:PUBLISH
X-PUBLISHED-TTL:P3D
REFRESH-INTERVAL:P3D
CALSCALE:GREGORIAN
BEGIN:VEVENT
DTSTART:20190412T150000Z
DTEND:20190412T163000Z
X-MICROSOFT-CDO-ALLDAYEVENT:FALSE
SUMMARY:Policy Impact Series
DESCRIPTION:Legislative District 18 panel discussion. Senator Sean Bowie\, Representative Mitzi Epstein and Representative Jennifer Jermaine will do a panel discussion as the 2019 legislative session begins to come to a close. This is a great opportunity to go in-depth with Chandlers political leaders on the issues.
X-ALT-DESC;FMTTYPE=text/html:Legislative District 18 panel discussion. Senator Sean Bowie\, Representative Mitzi Epstein and Representative Jennifer Jermaine will do a panel discussion as the 2019 legislative session begins to come to a close. This is a great opportunity to go in-depth with Chandlers political leaders on the issues.&nbsp\;<br />\n&nbsp\;&nbsp\;
LOCATION:Chandler Chamber of Commerce 25 S. Arizona Pl. #201 Chandler\, 85225
UID:e.1561.35870
SEQUENCE:3
DTSTAMP:20260423T033211Z
URL:https://business.chandlerchamber.com/events/details/policy-impact-series-04-12-2019-35870
END:VEVENT

END:VCALENDAR
