BEGIN:VCALENDAR
VERSION:2.0
PRODID:-//ChamberMaster//Event Calendar 2.0//EN
METHOD:PUBLISH
X-PUBLISHED-TTL:P3D
REFRESH-INTERVAL:P3D
CALSCALE:GREGORIAN
BEGIN:VEVENT
DTSTART:20190426T150000Z
DTEND:20190427T043000Z
X-MICROSOFT-CDO-ALLDAYEVENT:FALSE
SUMMARY:Policy Impact Series
DESCRIPTION:The Chandler Chamber is honored to host Secretary of State Katie Hobbs for an presentation of what the Secretary of States office is pursuing this session and an elections update. We will also hear from two experts regarding data firms and election security in the political and policy arenas!
X-ALT-DESC;FMTTYPE=text/html:The Chandler Chamber is honored to host Secretary of State Katie Hobbs for an presentation of what the Secretary of States office is pursuing this session and an elections update. We will also hear from two experts regarding data firms and election security in the political and policy arenas!&nbsp\;
LOCATION:Chandler Chamber of Commerce 25 South Arizona Place Suite 201 Chandler\, AZ 85225
UID:e.1561.12387
SEQUENCE:3
DTSTAMP:20260423T045525Z
URL:https://business.chandlerchamber.com/events/details/policy-impact-series-04-26-2019-12387
END:VEVENT

END:VCALENDAR
