BEGIN:VCALENDAR
VERSION:2.0
PRODID:-//ChamberMaster//Event Calendar 2.0//EN
METHOD:PUBLISH
X-PUBLISHED-TTL:P3D
REFRESH-INTERVAL:P3D
CALSCALE:GREGORIAN
BEGIN:VEVENT
DTSTART:20190510T150000Z
DTEND:20190510T163000Z
X-MICROSOFT-CDO-ALLDAYEVENT:FALSE
SUMMARY:Policy Impact Series
DESCRIPTION:The United States Small Business Administration Office of Advocacy wants to hear from you.\n\nFriday May 10\, is a rare and unique opportunity for you to speak to the organization\, which represents the needs of small businesses directly to our federal lawmakers. This is a direct pipeline to Washington D.C.!\n\nMarina Dewit is the Region 9 Advocate for the office and will be at the Chandler Chamber to explain what sort of policies her office is working on at the federal level to help small businesses. \n\nShe will also present how their Arizona office can help your business directly through federal programs. \n\nPlease come prepared with questions\, suggestions\, ideas\, and your businesses' pain-points regarding how our federal government can help foster a more business friendly environment here in Chandler and Arizona.
X-ALT-DESC;FMTTYPE=text/html:<span style="font-family:times new roman\,serif\;"><span style="font-size:12.0pt\;">The United States Small Business Administration Office of Advocacy wants to hear from you.</span></span><br />\n<span style="font-family:times new roman\,serif\;"><span style="font-size:12.0pt\;">Friday May 10\, is a rare and unique opportunity for you to speak to the organization\, which represents the needs of small businesses directly to our federal lawmakers. This is a direct pipeline to Washington D.C.!</span></span><br />\n<span style="font-family:times new roman\,serif\;"><span style="font-size:12.0pt\;">Marina Dewit is the Region 9 Advocate for the office and will be at the Chandler Chamber to explain what sort of policies her office is working on at the federal level to help small businesses. </span></span><br />\n<span style="font-family:times new roman\,serif\;"><span style="font-size:12.0pt\;">She will also present how their Arizona office can help your business directly through federal programs. </span></span><br />\n<span style="font-family:times new roman\,serif\;"><span style="font-size:12.0pt\;">Please come prepared with questions\, suggestions\, ideas\, and your businesses&rsquo\; pain-points regarding how our federal government can help foster a more business friendly environment here in Chandler and Arizona. </span></span>
LOCATION:Chandler Chamber of Commerce 25 S Arizona Pl. Suite 201 Chandler AZ 85225
UID:e.1561.35871
SEQUENCE:3
DTSTAMP:20260423T020955Z
URL:https://business.chandlerchamber.com/events/details/policy-impact-series-05-10-2019-35871
END:VEVENT

END:VCALENDAR
