BEGIN:VCALENDAR
VERSION:2.0
PRODID:-//ChamberMaster//Event Calendar 2.0//EN
METHOD:PUBLISH
X-PUBLISHED-TTL:P3D
REFRESH-INTERVAL:P3D
CALSCALE:GREGORIAN
BEGIN:VEVENT
DTSTART:20190607T150000Z
DTEND:20190607T163000Z
X-MICROSOFT-CDO-ALLDAYEVENT:FALSE
SUMMARY:Policy Impact Series
DESCRIPTION:Legislative Wrap Up\n\nChandler Chamber Public Policy Team  \n\nWe will also host a speaker from ADOT who wants local business input on strategies on how to mitigate the effect of this construction on local businesses. ADOT is beginning a major improvement project on the Loop 101 (Price Freeway) between Baseline Road and the Loop 202 (Santan Freeway) in the cities of Mesa\, Tempe and Chandler.
X-ALT-DESC;FMTTYPE=text/html:Legislative Wrap Up<br />\nChandler Chamber Public Policy Team&nbsp\;&nbsp\;<br />\nWe will also host a speaker from ADOT who wants local business input on strategies on how to mitigate the effect of this construction on local businesses.&nbsp\;<span style="font-family:times new roman\,serif\;"><span style="font-size:12.0pt\;">ADOT is beginning a major improvement project on the <strong>Loop 101 (Price Freeway) </strong>between Baseline Road and the Loop 202 (Santan Freeway) in the cities of Mesa\, Tempe and Chandler.&nbsp\;</span></span>&nbsp\; &nbsp\; &nbsp\;&nbsp\;
LOCATION:Chandler Chamber of Commerce 25 S Arizona Place\, Suite 201 Chandler\, AZ 85225
UID:e.1561.36646
SEQUENCE:3
DTSTAMP:20260423T003627Z
URL:https://business.chandlerchamber.com/events/details/policy-impact-series-36646
END:VEVENT

END:VCALENDAR
