BEGIN:VCALENDAR
VERSION:2.0
PRODID:-//ChamberMaster//Event Calendar 2.0//EN
METHOD:PUBLISH
X-PUBLISHED-TTL:P3D
REFRESH-INTERVAL:P3D
CALSCALE:GREGORIAN
BEGIN:VEVENT
DTSTART:20220401T150000Z
DTEND:20220401T163000Z
X-MICROSOFT-CDO-ALLDAYEVENT:FALSE
SUMMARY:Policy Impact Series - April 2022
DESCRIPTION:Arizona Department of Transportation Interstate 10 Broadway Curve Improvement Project\n\n\n\nYour local leaders will be providing updates on the transportation happenings in Chandler and Maricopa County!\n\n\n\nJack Sellers\, Supervisor\, District 1 Maricopa County\n\nAudra Koester Thomas\, Transportation Planning Program Manager\, Maricopa Association of Governments\n\nJoshua H. Wright\, City Manager\, City of Chandler\n\nKevin Hartke\, Mayor\, City of Chandler\n\nAmy Ritz\, Project Manager\, Arizona Department of Transportation Interstate 10 Broadway Curve Improvement Project
X-ALT-DESC;FMTTYPE=text/html:<span style="font-size:26px\;"><span style="color: rgb(51\, 51\, 51)\; font-family: sans-serif\, Arial\, Verdana\, &quot\;Trebuchet MS&quot\;\; background-color: rgb(255\, 255\, 255)\;">Arizona Department of Transportation Interstate 10 Broadway Curve Improvement Project</span></span><br />\n<br />\n<span style="font-size:20px\;">Your local leaders will be providing updates on the transportation happenings in Chandler and Maricopa County!</span><br />\n<br />\nJack Sellers\, Supervisor\, District 1 Maricopa County<br />\nAudra Koester Thomas\, Transportation Planning Program Manager\, Maricopa Association of Governments<br />\nJoshua H. Wright\, City Manager\, City of Chandler<br />\nKevin Hartke\, Mayor\, City of Chandler<br />\nAmy Ritz\, Project Manager\, Arizona Department of Transportation Interstate 10 Broadway Curve Improvement Project<br />\n&nbsp\;
LOCATION:Public Safety Training Center 3550 S Dobson Rd\, Chandler\, AZ 85248
UID:e.1561.40627
SEQUENCE:3
DTSTAMP:20260424T051130Z
URL:https://business.chandlerchamber.com/events/details/policy-impact-series-april-2022-40627
END:VEVENT

END:VCALENDAR
