BEGIN:VCALENDAR
VERSION:2.0
PRODID:-//ChamberMaster//Event Calendar 2.0//EN
METHOD:PUBLISH
X-PUBLISHED-TTL:P3D
REFRESH-INTERVAL:P3D
CALSCALE:GREGORIAN
BEGIN:VEVENT
DTSTART:20250801T150000Z
DTEND:20250801T163000Z
X-MICROSOFT-CDO-ALLDAYEVENT:FALSE
SUMMARY:Policy Impact Series - Arizona Corporation Commission
DESCRIPTION:Featuring Chairman Kevin Thompson & Commissioner Rene Lopez\n\nAs Arizona continues to shape its energy future and regulate critical utilities and infrastructure\, members of the Arizona Corporation Commission will share updates on the issues that directly impact businesses and residents alike. Join us for a timely discussion on energy policy\, water management\, broadband expansion\, and regulatory reform.\n\nThis free event features insights from Arizona Corporation Commissioners Kevin Thompson and Rene Lopez\, both of whom bring extensive public service and private sector experience to one of the state's most powerful regulatory bodies.\n\n\nMeet Chairman Kevin Thompson\n\nKevin Thompson was elected to the Arizona Corporation Commission in 2022 and currently serves as Chairman. A U.S. Air Force veteran and former City of Mesa Councilmember\, he brings more than two decades of experience in both public service and the private sector\, including work in the energy industry. Commissioner Thompson is focused on protecting ratepayers\, ensuring reliable infrastructure\, and supporting innovation in Arizona's utility systems.\n\n\nMeet Commissioner Rene Lopez\n\nRene Lopez was elected to the Arizona Corporation Commission in 2024. A native Arizonan and former Chandler City Councilmember\, he has over 23 years of experience in project management and engineering in the private sector. Commissioner Lopez is committed to promoting transparency\, ensuring regulatory accountability\, and advancing Arizona's economic development through smart utility oversight.
X-ALT-DESC;FMTTYPE=text/html:<p data-end="54" data-start="0"><strong data-end="55" data-start="0" style="font-size: 16px\; font-family: arial\;">Featuring Chairman Kevin Thompson &amp\; Commissioner Rene Lopez</strong></p>\n\n<p data-end="436" data-start="93"><span style="font-family:arial\;"><span style="font-size:16px\;">As Arizona continues to shape its energy future and regulate critical utilities and infrastructure\, members of the Arizona Corporation Commission will share updates on the issues that directly impact businesses and residents alike. Join us for a timely discussion on energy policy\, water management\, broadband expansion\, and regulatory reform.</span></span></p>\n\n<p data-end="670" data-start="438"><span style="font-family:arial\;"><span style="font-size:16px\;">This free event features insights from Arizona Corporation Commissioners Kevin Thompson and Rene Lopez\, both of whom bring extensive public service and private sector experience to one of the state&rsquo\;s most powerful regulatory bodies.</span></span></p>\n\n<hr data-end="675" data-start="672" />\n<p data-end="1167" data-start="677"><span style="font-family:arial\;"><span style="font-size:16px\;"><strong data-end="713" data-start="677">Meet Chairman Kevin Thompson</strong><br data-end="716" data-start="713" />\nKevin Thompson was elected to the Arizona Corporation Commission in 2022 and currently serves as Chairman. A U.S. Air Force veteran and former City of Mesa Councilmember\, he brings more than two decades of experience in both public service and the private sector\, including work in the energy industry. Commissioner Thompson is focused on protecting ratepayers\, ensuring reliable infrastructure\, and supporting innovation in Arizona&rsquo\;s utility systems.</span></span></p>\n\n<hr data-end="1172" data-start="1169" />\n<p data-end="1605" data-is-last-node="" data-is-only-node="" data-start="1174"><span style="font-family:arial\;"><span style="font-size:16px\;"><strong data-end="1206" data-start="1174">Meet Commissioner Rene Lopez</strong><br data-end="1209" data-start="1206" />\nRene Lopez was elected to the Arizona Corporation Commission in 2024. A native Arizonan and former Chandler City Councilmember\, he has over 23&nbsp\;years of experience in project management and engineering in the private sector. Commissioner Lopez is committed to promoting transparency\, ensuring regulatory accountability\, and advancing Arizona&rsquo\;s economic development through smart utility oversight.</span></span></p>\n
LOCATION:ASU Chandler Innovation Center 249 East Chicago Street Chandler\, Arizona 85225
UID:e.1561.50735
SEQUENCE:3
DTSTAMP:20260424T122009Z
URL:https://business.chandlerchamber.com/events/details/policy-impact-series-arizona-corporation-commission-50735
END:VEVENT

END:VCALENDAR
