BEGIN:VCALENDAR
VERSION:2.0
PRODID:-//ChamberMaster//Event Calendar 2.0//EN
METHOD:PUBLISH
X-PUBLISHED-TTL:P3D
REFRESH-INTERVAL:P3D
CALSCALE:GREGORIAN
BEGIN:VEVENT
DTSTART:20210312T150000Z
DTEND:20210312T160000Z
X-MICROSOFT-CDO-ALLDAYEVENT:FALSE
SUMMARY:Policy Impact Series- March 2021
DESCRIPTION:Join us for our monthly Public Policy update. \n\n\n\nThis month\, we will feature updates from some of our local elected officials\, as well as area transportation experts. \n\n\n\nPlease click the link below to join the webinar:\n\nhttps://us02web.zoom.us/j/83514707532?pwd=ajJpNzMxa0hXRVl2bElJR2hOMEE0QT09\n\nPasscode: 005536\n\nOr iPhone one-tap : \n\n    US: +12532158782\,\,83514707532#  or +13462487799\,\,83514707532# \n\nOr Telephone:\n\n    Dial(for higher quality\, dial a number based on your current location):\n\n        US: +1 253 215 8782  or +1 346 248 7799  or +1 669 900 9128  or +1 301 715 8592  or +1 312 626 6799  or +1 646 558 8656 \n\nWebinar ID: 835 1470 7532\n\n    International numbers available: https://us02web.zoom.us/u/k8rnz9yN
X-ALT-DESC;FMTTYPE=text/html:Join us for our monthly Public Policy update.&nbsp\;<br />\n<br />\n<span style="font-size:14px\;"><strong>This month\, we will feature updates from some of our local elected officials\, as well as area transportation experts.&nbsp\;</strong></span><br />\n<br />\nPlease click the link below to join the webinar:<br />\nhttps://us02web.zoom.us/j/83514707532?pwd=ajJpNzMxa0hXRVl2bElJR2hOMEE0QT09<br />\nPasscode: 005536<br />\nOr iPhone one-tap :&nbsp\;<br />\n&nbsp\; &nbsp\; US: +12532158782\,\,83514707532#&nbsp\; or +13462487799\,\,83514707532#&nbsp\;<br />\nOr Telephone:<br />\n&nbsp\; &nbsp\; Dial(for higher quality\, dial a number based on your current location):<br />\n&nbsp\; &nbsp\; &nbsp\; &nbsp\; US: +1 253 215 8782&nbsp\; or +1 346 248 7799&nbsp\; or +1 669 900 9128&nbsp\; or +1 301 715 8592&nbsp\; or +1 312 626 6799&nbsp\; or +1 646 558 8656&nbsp\;<br />\nWebinar ID: 835 1470 7532<br />\n&nbsp\; &nbsp\; International numbers available: https://us02web.zoom.us/u/k8rnz9yN
LOCATION:Virtual Event- Held on Zoom
UID:e.1561.39609
SEQUENCE:3
DTSTAMP:20260425T002417Z
URL:https://business.chandlerchamber.com/events/details/policy-impact-series-march-2021-39609
END:VEVENT

END:VCALENDAR
