BEGIN:VCALENDAR
VERSION:2.0
PRODID:-//ChamberMaster//Event Calendar 2.0//EN
METHOD:PUBLISH
X-PUBLISHED-TTL:P3D
REFRESH-INTERVAL:P3D
CALSCALE:GREGORIAN
BEGIN:VEVENT
DTSTART:20180929T180000Z
DTEND:20180929T190000Z
X-MICROSOFT-CDO-ALLDAYEVENT:FALSE
SUMMARY:Popovich Comedy Pet Theater
DESCRIPTION:From high-wire balancing acts\, juggling and rope tricks to hilarious pranks and high jinks - this cast of adorable pets from animal rescues show off their amazing skills in this performance the whole family will love. The World Famous Popovich Comedy Pet Theater features the unique comedy and juggling skills of Gregory Popovich\, and the talents of over 30 furry costars including Kurt and Helgo\, the goat duo\, and Mr. Diamond\, the miniature horse. - See more at: https://chandlercenter.org/family/236-popovich-comedy-pet-theater
X-ALT-DESC;FMTTYPE=text/html:From high-wire balancing acts\, juggling and rope tricks to hilarious pranks and high jinks - this cast of adorable pets from animal rescues show off their amazing skills in this performance the whole family will love. The World Famous Popovich Comedy Pet Theater features the unique comedy and juggling skills of Gregory Popovich\, and the talents of over 30 furry costars including Kurt and Helgo\, the goat duo\, and Mr. Diamond\, the miniature horse. - See more at: https://chandlercenter.org/family/236-popovich-comedy-pet-theater
LOCATION:Chandler Center for the Arts
UID:e.1561.33723
SEQUENCE:3
DTSTAMP:20260423T134834Z
URL:https://business.chandlerchamber.com/events/details/popovich-comedy-pet-theater-33723
END:VEVENT

END:VCALENDAR
